BEGIN_USGS_DOQ_HEADER *
QUADRANGLE_NAME "SAID VALLEY" 3.45 or 7.5-min. name*
QUADRANT NW quadrant indicator if cell size = 3.75-minutes*
WEST_LONGITUDE -120 52 30.000 signed deg min sec SDDD MM SS.SSS*
EAST_LONGITUDE -120 48 45.000 signed deg min sec SDDD MM SS.SSS*
NORTH_LATITUDE 41 0 0.000 signed deg min sec SDDD MM SS.SSS*
SOUTH_LATITUDE 40 56 15.000 signed deg min sec SDDD MM SS.SSS*
PRODUCTION_DATE 2000 12 4 yyyy mm dd*
RASTER_ORDER LEFT_RIGHT/TOP_BOTTOM video display order*
BAND_ORGANIZATION "SINGLE FILE" single file or BSQ, or BIL or BIP*
BAND_CONTENT BLACK&WHITE black&white or red green blue*
BITS_PER_PIXEL 8 radiometric resolution*
SAMPLES_AND_LINES 6124 7685 number of columns and rows*
HORIZONTAL_DATUM NAD83 primary horizontal datum*
HORIZONTAL_COORDINATE_SYSTEM UTM *
COORDINATE_ZONE 10 coordinate system zone number*
HORIZONTAL_UNITS METERS coordinate system units*
HORIZONTAL_RESOLUTION 1.00 pixel horiz. ground sample distance*
SECONDARY_HORIZONTAL_DATUM NAD27 secondary horizontal datum*
XY_ORIGIN 678330.000 4541362.000 coord. of upper left pixel pri. datum*
SECONDARY_XY_ORIGIN 678424.859 4541164.336 coord upper left pixel sec datum*
NATION US nation code*
STATE CA state fip code*
NW_QUAD_CORNER_XY 678721.538 4540931.932 XY coords. of pri. NW quad corner*
NE_QUAD_CORNER_XY 683978.409 4541061.785 XY coords. of pri. NE quad corner*
SE_QUAD_CORNER_XY 684152.185 4534123.012 XY coords. of pri. SE quad corner*
SW_QUAD_CORNER_XY 678890.344 4533993.199 XY coords. of pri. SW quad corner*
SECONDARY_NW_QUAD_XY 678726.349 4540720.091 XY coords. - sec. NW quad cor.*
SECONDARY_NE_QUAD_XY 683983.361 4540849.948 XY coords. - sec. NE quad cor.*
SECONDARY_SE_QUAD_XY 684157.135 4533911.284 XY coords. - sec. SE quad cor.*
SECONDARY_SW_QUAD_XY 678895.152 4533781.467 XY coords. - sec. SW quad cor.*
RMSE_XY 1.30 doq horiz. accuracy*
IMAGE_SOURCE "BLACK AND WHITE FILM" b&w, cir, natural color, other*
SOURCE_IMAGE_ID "NAPP 10497 202" source image id*
SOURCE_IMAGE_DATE 1998 08 03 source image date as yyyy mm dd*
SOURCE_DEM_DATE 2000 01 01 source dem date yyyy mm dd*
AGENCY "WESTERN MAPPING CENTER (WMC)" oversight agency*
PRODUCER "SCIENCE APPLICATIONS INTERNATIONAL" producer/contractor*
PRODUCTION_SYSTEM "GIS/MAGIC" production system*
STANDARD_VERSION 1996 12 version of DOQ standard*
METADATA_DATE 2000 12 08 date created or changed, yyyy mm dd*
DATA_FILE_SIZE 47069064 data set size in bytes*
BYTE_COUNT 6124 header byte count* * * * * * * * * * * * * * * * * * * * * * * * * * * * * * * * * *
END_USGS_HEADER *
