BEGIN_USGS_DOQ_HEADER *
QUADRANGLE_NAME "SAID VALLEY" 3.45 or 7.5-min. name*
QUADRANT SE quadrant indicator if cell size = 3.75-minutes*
WEST_LONGITUDE -120 48 45.000 signed deg min sec SDDD MM SS.SSS*
EAST_LONGITUDE -120 45 0.000 signed deg min sec SDDD MM SS.SSS*
NORTH_LATITUDE 40 56 15.000 signed deg min sec SDDD MM SS.SSS*
SOUTH_LATITUDE 40 52 30.000 signed deg min sec SDDD MM SS.SSS*
PRODUCTION_DATE 2000 12 4 yyyy mm dd*
RASTER_ORDER LEFT_RIGHT/TOP_BOTTOM video display order*
BAND_ORGANIZATION "SINGLE FILE" single file or BSQ, or BIL or BIP*
BAND_CONTENT BLACK&WHITE black&white or red green blue*
BITS_PER_PIXEL 8 radiometric resolution*
SAMPLES_AND_LINES 6133 7689 number of columns and rows*
HORIZONTAL_DATUM NAD83 primary horizontal datum*
HORIZONTAL_COORDINATE_SYSTEM UTM *
COORDINATE_ZONE 10 coordinate system zone number*
HORIZONTAL_UNITS METERS coordinate system units*
HORIZONTAL_RESOLUTION 1.00 pixel horiz. ground sample distance*
SECONDARY_HORIZONTAL_DATUM NAD27 secondary horizontal datum*
XY_ORIGIN 683761.000 4534557.000 coord. of upper left pixel pri. datum*
SECONDARY_XY_ORIGIN 683855.887 4534359.406 coord upper left pixel sec datum*
NATION US nation code*
STATE CA state fip code*
NW_QUAD_CORNER_XY 684152.185 4534123.012 XY coords. of pri. NW quad corner*
NE_QUAD_CORNER_XY 689414.058 4534256.592 XY coords. of pri. NE quad corner*
SE_QUAD_CORNER_XY 689592.579 4527317.840 XY coords. of pri. SE quad corner*
SW_QUAD_CORNER_XY 684325.741 4527184.302 XY coords. of pri. SW quad corner*
SECONDARY_NW_QUAD_XY 684157.135 4533911.284 XY coords. - sec. NW quad cor.*
SECONDARY_NE_QUAD_XY 689419.149 4534044.867 XY coords. - sec. NE quad cor.*
SECONDARY_SE_QUAD_XY 689597.667 4527106.227 XY coords. - sec. SE quad cor.*
SECONDARY_SW_QUAD_XY 684330.688 4526972.685 XY coords. - sec. SW quad cor.*
RMSE_XY 1.60 doq horiz. accuracy*
IMAGE_SOURCE "BLACK AND WHITE FILM" b&w, cir, natural color, other*
SOURCE_IMAGE_ID "NAPP 10497 211" source image id*
SOURCE_IMAGE_DATE 1998 08 03 source image date as yyyy mm dd*
SOURCE_IMAGE_ID "NAPP 10507 023" source image id*
SOURCE_IMAGE_DATE 1998 08 25 source image date as yyyy mm dd*
SOURCE_DEM_DATE 2000 01 01 source dem date yyyy mm dd*
AGENCY "WESTERN MAPPING CENTER (WMC)" oversight agency*
PRODUCER "SCIENCE APPLICATIONS INTERNATIONAL" producer/contractor*
PRODUCTION_SYSTEM "GIS/MAGIC" production system*
STANDARD_VERSION 1996 12 version of DOQ standard*
METADATA_DATE 2000 12 08 date created or changed, yyyy mm dd*
DATA_FILE_SIZE 47162770 data set size in bytes*
BYTE_COUNT 6133 header byte count* * * * * * * * * * * * * * * * * * * * * * * * * * * * * * * *
END_USGS_HEADER *
