BEGIN_USGS_DOQ_HEADER *
QUADRANGLE_NAME "SILVA FLAT RESERVOIR" 3.45 or 7.5-min. name*
QUADRANT SE quadrant indicator if cell size = 3.75-minutes*
WEST_LONGITUDE -120 56 15.000 signed deg min sec SDDD MM SS.SSS*
EAST_LONGITUDE -120 52 30.000 signed deg min sec SDDD MM SS.SSS*
NORTH_LATITUDE 40 56 15.000 signed deg min sec SDDD MM SS.SSS*
SOUTH_LATITUDE 40 52 30.000 signed deg min sec SDDD MM SS.SSS*
PRODUCTION_DATE 2000 12 1 yyyy mm dd*
RASTER_ORDER LEFT_RIGHT/TOP_BOTTOM video display order*
BAND_ORGANIZATION "SINGLE FILE" single file or BSQ, or BIL or BIP*
BAND_CONTENT BLACK&WHITE black&white or red green blue*
BITS_PER_PIXEL 8 radiometric resolution*
SAMPLES_AND_LINES 6123 7682 number of columns and rows*
HORIZONTAL_DATUM NAD83 primary horizontal datum*
HORIZONTAL_COORDINATE_SYSTEM UTM *
COORDINATE_ZONE 10 coordinate system zone number*
HORIZONTAL_UNITS METERS coordinate system units*
HORIZONTAL_RESOLUTION 1.00 pixel horiz. ground sample distance*
SECONDARY_HORIZONTAL_DATUM NAD27 secondary horizontal datum*
XY_ORIGIN 673237.000 4534294.000 coord. of upper left pixel pri. datum*
SECONDARY_XY_ORIGIN 673331.873 4534096.458 coord upper left pixel sec datum*
NATION US nation code*
STATE CA state fip code*
NW_QUAD_CORNER_XY 673628.533 4533867.153 XY coords. of pri. NW quad corner*
NE_QUAD_CORNER_XY 678890.344 4533993.199 XY coords. of pri. NE quad corner*
SE_QUAD_CORNER_XY 679058.936 4527054.530 XY coords. of pri. SE quad corner*
SW_QUAD_CORNER_XY 673792.161 4526928.524 XY coords. of pri. SW quad corner*
SECONDARY_NW_QUAD_XY 673633.199 4533655.418 XY coords. - sec. NW quad cor.*
SECONDARY_NE_QUAD_XY 678895.152 4533781.467 XY coords. - sec. NE quad cor.*
SECONDARY_SE_QUAD_XY 679063.741 4526842.910 XY coords. - sec. SE quad cor.*
SECONDARY_SW_QUAD_XY 673796.825 4526716.900 XY coords. - sec. SW quad cor.*
RMSE_XY 2.70 doq horiz. accuracy*
IMAGE_SOURCE "BLACK AND WHITE FILM" b&w, cir, natural color, other*
SOURCE_IMAGE_ID "NAPP 10497 133" source image id*
SOURCE_IMAGE_DATE 1998 08 03 source image date as yyyy mm dd*
SOURCE_DEM_DATE 2000 01 01 source dem date yyyy mm dd*
AGENCY "WESTERN MAPPING CENTER (WMC)" oversight agency*
PRODUCER "SCIENCE APPLICATIONS INTERNATIONAL" producer/contractor*
PRODUCTION_SYSTEM "GIS/MAGIC" production system*
STANDARD_VERSION 1996 12 version of DOQ standard*
METADATA_DATE 2000 12 08 date created or changed, yyyy mm dd*
DATA_FILE_SIZE 47043009 data set size in bytes*
BYTE_COUNT 6123 header byte count* * * * * * * * * * * * * * * * * * * * * * * * * * * * * * * * * *
END_USGS_HEADER *
