BEGIN_USGS_DOQ_HEADER *
QUADRANGLE_NAME "CARIBOU" 3.45 or 7.5-min. name*
QUADRANT NE quadrant indicator if cell size = 3.75-minutes*
WEST_LONGITUDE -121 11 15.000 signed deg min sec SDDD MM SS.SSS*
EAST_LONGITUDE -121 7 30.000 signed deg min sec SDDD MM SS.SSS*
NORTH_LATITUDE 40 7 30.000 signed deg min sec SDDD MM SS.SSS*
SOUTH_LATITUDE 40 3 45.000 signed deg min sec SDDD MM SS.SSS*
PRODUCTION_DATE 2000 6 29 yyyy mm dd*
RASTER_ORDER left_right/top_bottom video display order*
BAND_ORGANIZATION "single file" single file or BSQ, or BIL or BIP*
BAND_CONTENT BLACK&WHITE black&white or red green blue*
BITS_PER_PIXEL 8 radiometric resolution*
SAMPLES_AND_LINES 6174 7674 number of columns and rows*
HORIZONTAL_DATUM NAD83 primary horizontal datum*
HORIZONTAL_COORDINATE_SYSTEM UTM *
COORDINATE_ZONE 10 coordinate system zone number*
HORIZONTAL_UNITS meters coordinate system units*
HORIZONTAL_RESOLUTION 1.00 pixel horiz. ground sample distance*
SECONDARY_HORIZONTAL_DATUM NAD27 secondary horizontal datum*
XY_ORIGIN 654040.000 4443622.000 coord. of upper left pixel pri. datum*
SECONDARY_XY_ORIGIN 654135.336 4443426.256 coord upper left pixel sec datum*
NATION US nation code*
STATE CA state fip code*
NW_QUAD_CORNER_XY 654436.394 4443205.667 XY coords. of pri. NW quad corner*
NE_QUAD_CORNER_XY 659762.108 4443316.152 XY coords. of pri. NE quad corner*
SE_QUAD_CORNER_XY 659908.379 4436378.509 XY coords. of pri. SE quad corner*
SW_QUAD_CORNER_XY 654577.786 4436268.067 XY coords. of pri. SW quad corner*
SECONDARY_NW_QUAD_XY 654440.464 4442995.426 XY coords. - sec. NW quad cor.*
SECONDARY_NE_QUAD_XY 659766.318 4443105.913 XY coords. - sec. NE quad cor.*
SECONDARY_SE_QUAD_XY 659912.587 4436168.393 XY coords. - sec. SE quad cor.*
SECONDARY_SW_QUAD_XY 654581.853 4436057.947 XY coords. - sec. SW quad cor.*
RMSE_XY 3.51 doq horiz. accuracy*
IMAGE_SOURCE "BLACK AND WHITE FILM" b&w, cir, natural color, other*
SOURCE_IMAGE_ID "NAPP 10503-116" source image id*
SOURCE_IMAGE_DATE 1998 8 22 source image date as yyyy mm dd*
SOURCE_DEM_DATE 1997 7 1 source dem date yyyy mm dd*
AGENCY "WESTERN MAPPING CENTER (WMC)" oversight agency*
PRODUCER "WOOLPERT LLP" producer/contractor*
PRODUCTION_SYSTEM "INTERGRAPH ISPM, ISIR" production system*
STANDARD_VERSION 1996 12 version of DOQ standard*
METADATA_DATE 2000 6 29 date created or changed, yyyy mm dd*
DATA_FILE_SIZE 47385450 data set size in bytes*
BYTE_COUNT 6174 header byte count* * * * * * * * * * * * * * * * * * * * * * * * * * * * * * * * * * *
END_USGS_HEADER *
