BEGIN_USGS_DOQ_HEADER                                                         *
QUADRANGLE_NAME "DEVILS PARADE GROUND"                   3.45 or 7.5-min. name*
QUADRANT NE                     quadrant indicator if cell size = 3.75-minutes*
WEST_LONGITUDE -121 41 15.000                signed deg min sec SDDD MM SS.SSS*
EAST_LONGITUDE -121 37 30.000                signed deg min sec SDDD MM SS.SSS*
NORTH_LATITUDE 40 7 30.000                   signed deg min sec SDDD MM SS.SSS*
SOUTH_LATITUDE 40 3 45.000                   signed deg min sec SDDD MM SS.SSS*
PRODUCTION_DATE 2000  6 24                                          yyyy mm dd*
RASTER_ORDER left_right/top_bottom                         video display order*
BAND_ORGANIZATION "single file"              single file or BSQ, or BIL or BIP*
BAND_CONTENT BLACK&WHITE                         black&white or red green blue*
BITS_PER_PIXEL 8                                        radiometric resolution*
SAMPLES_AND_LINES 6137 7644                         number of columns and rows*
HORIZONTAL_DATUM NAD83                                primary horizontal datum*
HORIZONTAL_COORDINATE_SYSTEM UTM                                              *
COORDINATE_ZONE 10                               coordinate system zone number*
HORIZONTAL_UNITS meters                                coordinate system units*
HORIZONTAL_RESOLUTION 1.00                 pixel horiz. ground sample distance*
SECONDARY_HORIZONTAL_DATUM NAD27                    secondary horizontal datum*
XY_ORIGIN 611433.000 4442843.000         coord. of upper left pixel pri. datum*
SECONDARY_XY_ORIGIN 611528.696 4442647.230    coord upper left pixel sec datum*
NATION US                                                          nation code*
STATE CA                                                        state fip code*
NW_QUAD_CORNER_XY 611831.730 4442456.704     XY coords. of pri. NW quad corner*
NE_QUAD_CORNER_XY 617157.222 4442537.210     XY coords. of pri. NE quad corner*
SE_QUAD_CORNER_XY 617264.465 4435599.864     XY coords. of pri. SE quad corner*
SW_QUAD_CORNER_XY 611934.096 4435519.388     XY coords. of pri. SW quad corner*
SECONDARY_NW_QUAD_XY 611834.677 4442246.443     XY coords. - sec. NW quad cor.*
SECONDARY_NE_QUAD_XY 617160.309 4442326.951     XY coords. - sec. NE quad cor.*
SECONDARY_SE_QUAD_XY 617267.551 4435389.727     XY coords. - sec. SE quad cor.*
SECONDARY_SW_QUAD_XY 611937.041 4435309.249     XY coords. - sec. SW quad cor.*
RMSE_XY 2.94                                               doq horiz. accuracy*
IMAGE_SOURCE "BLACK AND WHITE FILM"             b&w, cir, natural color, other*
SOURCE_IMAGE_ID "NAPP 10502-234"                               source image id*
SOURCE_IMAGE_DATE 1998  8 17                   source image date as yyyy mm dd*
SOURCE_DEM_DATE 1997  7  1                          source dem date yyyy mm dd*
AGENCY "WESTERN MAPPING CENTER (WMC)"                         oversight agency*
PRODUCER "WOOLPERT LLP"                                    producer/contractor*
PRODUCTION_SYSTEM "INTERGRAPH ISPM, ISIR"                    production system*
STANDARD_VERSION 1996 12                               version of DOQ standard*
METADATA_DATE 2000  6 24                   date created or changed, yyyy mm dd*
DATA_FILE_SIZE 46917365                                 data set size in bytes*
BYTE_COUNT 6137                                              header byte count*
                                                                              *
                                                                              *
                                                                              *
                                                                              *
                                                                              *
                                                                              *
                                                                              *
                                                                              *
                                                                              *
                                                                              *
                                                                              *
                                                                              *
                                                                              *
                                                                              *
                                                                              *
                                                                              *
                                                                              *
                                                                              *
                                                                              *
                                                                              *
                                                                              *
                                                                              *
                                                                              *
                                                                              *
                                                                              *
                                                                              *
                                                                              *
                                                                              *
                                                                              *
                                                                              *
                                                                              *
                                                                              *
                                                       *
END_USGS_HEADER                                                               *