BEGIN_USGS_DOQ_HEADER *
QUADRANGLE_NAME "DEWITT PEAK" 3.45 or 7.5-min. name*
QUADRANT NW quadrant indicator if cell size = 3.75-minutes*
WEST_LONGITUDE -122 0 0.000 signed deg min sec SDDD MM SS.SSS*
EAST_LONGITUDE -121 56 15.000 signed deg min sec SDDD MM SS.SSS*
NORTH_LATITUDE 40 15 0.000 signed deg min sec SDDD MM SS.SSS*
SOUTH_LATITUDE 40 11 15.000 signed deg min sec SDDD MM SS.SSS*
PRODUCTION_DATE 2000 6 26 yyyy mm dd*
RASTER_ORDER left_right/top_bottom video display order*
BAND_ORGANIZATION "single file" single file or BSQ, or BIL or BIP*
BAND_CONTENT BLACK&WHITE black&white or red green blue*
BITS_PER_PIXEL 8 radiometric resolution*
SAMPLES_AND_LINES 6104 7624 number of columns and rows*
HORIZONTAL_DATUM NAD83 primary horizontal datum*
HORIZONTAL_COORDINATE_SYSTEM UTM *
COORDINATE_ZONE 10 coordinate system zone number*
HORIZONTAL_UNITS meters coordinate system units*
HORIZONTAL_RESOLUTION 1.00 pixel horiz. ground sample distance*
SECONDARY_HORIZONTAL_DATUM NAD27 secondary horizontal datum*
XY_ORIGIN 584649.000 4456352.000 coord. of upper left pixel pri. datum*
SECONDARY_XY_ORIGIN 584744.858 4456155.914 coord upper left pixel sec datum*
NATION US nation code*
STATE CA state fip code*
NW_QUAD_CORNER_XY 585048.313 4455984.945 XY coords. of pri. NW quad corner*
NE_QUAD_CORNER_XY 590363.932 4456046.769 XY coords. of pri. NE quad corner*
SE_QUAD_CORNER_XY 590447.010 4449109.417 XY coords. of pri. SE quad corner*
SW_QUAD_CORNER_XY 585126.503 4449047.616 XY coords. of pri. SW quad corner*
SECONDARY_NW_QUAD_XY 585050.561 4455774.434 XY coords. - sec. NW quad cor.*
SECONDARY_NE_QUAD_XY 590366.320 4455836.260 XY coords. - sec. NE quad cor.*
SECONDARY_SE_QUAD_XY 590449.397 4448899.028 XY coords. - sec. SE quad cor.*
SECONDARY_SW_QUAD_XY 585128.750 4448837.225 XY coords. - sec. SW quad cor.*
RMSE_XY 3.12 doq horiz. accuracy*
IMAGE_SOURCE "BLACK AND WHITE FILM" b&w, cir, natural color, other*
SOURCE_IMAGE_ID "NAPP 10502-137" source image id*
SOURCE_IMAGE_DATE 1998 8 17 source image date as yyyy mm dd*
SOURCE_DEM_DATE 1995 2 1 source dem date yyyy mm dd*
AGENCY "WESTERN MAPPING CENTER (WMC)" oversight agency*
PRODUCER "WOOLPERT LLP" producer/contractor*
PRODUCTION_SYSTEM "INTERGRAPH ISPM, ISIR" production system*
STANDARD_VERSION 1996 12 version of DOQ standard*
METADATA_DATE 2000 6 26 date created or changed, yyyy mm dd*
DATA_FILE_SIZE 46543000 data set size in bytes*
BYTE_COUNT 6104 header byte count* * * * * * * * * * * * * * * * * * * * * * * * * * * * * * * * * *
END_USGS_HEADER *
