BEGIN_USGS_DOQ_HEADER *
QUADRANGLE_NAME "STOVER MOUNTAIN" 3.45 or 7.5-min. name*
QUADRANT NW quadrant indicator if cell size = 3.75-minutes*
WEST_LONGITUDE -121 22 30.000 signed deg min sec SDDD MM SS.SSS*
EAST_LONGITUDE -121 18 45.000 signed deg min sec SDDD MM SS.SSS*
NORTH_LATITUDE 40 22 30.000 signed deg min sec SDDD MM SS.SSS*
SOUTH_LATITUDE 40 18 45.000 signed deg min sec SDDD MM SS.SSS*
PRODUCTION_DATE 2000 6 28 yyyy mm dd*
RASTER_ORDER left_right/top_bottom video display order*
BAND_ORGANIZATION "single file" single file or BSQ, or BIL or BIP*
BAND_CONTENT BLACK&WHITE black&white or red green blue*
BITS_PER_PIXEL 8 radiometric resolution*
SAMPLES_AND_LINES 6142 7663 number of columns and rows*
HORIZONTAL_DATUM NAD83 primary horizontal datum*
HORIZONTAL_COORDINATE_SYSTEM UTM *
COORDINATE_ZONE 10 coordinate system zone number*
HORIZONTAL_UNITS meters coordinate system units*
HORIZONTAL_RESOLUTION 1.00 pixel horiz. ground sample distance*
SECONDARY_HORIZONTAL_DATUM NAD27 secondary horizontal datum*
XY_ORIGIN 637553.000 4471052.000 coord. of upper left pixel pri. datum*
SECONDARY_XY_ORIGIN 637648.441 4470855.931 coord upper left pixel sec datum*
NATION US nation code*
STATE CA state fip code*
NW_QUAD_CORNER_XY 637950.769 4470647.323 XY coords. of pri. NW quad corner*
NE_QUAD_CORNER_XY 643256.813 4470746.710 XY coords. of pri. NE quad corner*
SE_QUAD_CORNER_XY 643389.132 4463808.915 XY coords. of pri. SE quad corner*
SW_QUAD_CORNER_XY 638078.184 4463709.564 XY coords. of pri. SW quad corner*
SECONDARY_NW_QUAD_XY 637954.426 4470436.595 XY coords. - sec. NW quad cor.*
SECONDARY_NE_QUAD_XY 643260.611 4470535.985 XY coords. - sec. NE quad cor.*
SECONDARY_SE_QUAD_XY 643392.928 4463598.308 XY coords. - sec. SE quad cor.*
SECONDARY_SW_QUAD_XY 638081.839 4463498.955 XY coords. - sec. SW quad cor.*
RMSE_XY 5.09 doq horiz. accuracy*
IMAGE_SOURCE "BLACK AND WHITE FILM" b&w, cir, natural color, other*
SOURCE_IMAGE_ID "NAPP 10508-258" source image id*
SOURCE_IMAGE_DATE 1998 9 13 source image date as yyyy mm dd*
SOURCE_IMAGE_ID "NAPP 10508-260" source image id*
SOURCE_IMAGE_DATE 1998 9 13 source image date as yyyy mm dd*
SOURCE_DEM_DATE 1997 6 1 source dem date yyyy mm dd*
AGENCY "WESTERN MAPPING CENTER (WMC)" oversight agency*
PRODUCER "WOOLPERT LLP" producer/contractor*
PRODUCTION_SYSTEM "INTERGRAPH ISPM, ISIR" production system*
STANDARD_VERSION 1996 12 version of DOQ standard*
METADATA_DATE 2000 6 29 date created or changed, yyyy mm dd*
DATA_FILE_SIZE 47072288 data set size in bytes*
BYTE_COUNT 6142 header byte count* * * * * * * * * * * * * * * * * * * * * * * * * * * * * * * *
END_USGS_HEADER *
