BEGIN_USGS_DOQ_HEADER *
QUADRANGLE_NAME "CHILDS MEADOWS" 3.45 or 7.5-min. name*
QUADRANT SW quadrant indicator if cell size = 3.75-minutes*
WEST_LONGITUDE -121 30 0.000 signed deg min sec SDDD MM SS.SSS*
EAST_LONGITUDE -121 26 15.000 signed deg min sec SDDD MM SS.SSS*
NORTH_LATITUDE 40 18 45.000 signed deg min sec SDDD MM SS.SSS*
SOUTH_LATITUDE 40 15 0.000 signed deg min sec SDDD MM SS.SSS*
PRODUCTION_DATE 2000 6 27 yyyy mm dd*
RASTER_ORDER left_right/top_bottom video display order*
BAND_ORGANIZATION "single file" single file or BSQ, or BIL or BIP*
BAND_CONTENT BLACK&WHITE black&white or red green blue*
BITS_PER_PIXEL 8 radiometric resolution*
SAMPLES_AND_LINES 6136 7655 number of columns and rows*
HORIZONTAL_DATUM NAD83 primary horizontal datum*
HORIZONTAL_COORDINATE_SYSTEM UTM *
COORDINATE_ZONE 10 coordinate system zone number*
HORIZONTAL_UNITS meters coordinate system units*
HORIZONTAL_RESOLUTION 1.00 pixel horiz. ground sample distance*
SECONDARY_HORIZONTAL_DATUM NAD27 secondary horizontal datum*
XY_ORIGIN 627059.000 4463919.000 coord. of upper left pixel pri. datum*
SECONDARY_XY_ORIGIN 627154.609 4463723.125 coord upper left pixel sec datum*
NATION US nation code*
STATE CA state fip code*
NW_QUAD_CORNER_XY 627456.368 4463522.117 XY coords. of pri. NW quad corner*
NE_QUAD_CORNER_XY 632767.263 4463613.965 XY coords. of pri. NE quad corner*
SE_QUAD_CORNER_XY 632889.616 4456676.310 XY coords. of pri. SE quad corner*
SW_QUAD_CORNER_XY 627573.824 4456584.495 XY coords. of pri. SW quad corner*
SECONDARY_NW_QUAD_XY 627459.742 4463311.502 XY coords. - sec. NW quad cor.*
SECONDARY_NE_QUAD_XY 632770.778 4463403.353 XY coords. - sec. NE quad cor.*
SECONDARY_SE_QUAD_XY 632893.128 4456465.817 XY coords. - sec. SE quad cor.*
SECONDARY_SW_QUAD_XY 627577.196 4456374.000 XY coords. - sec. SW quad cor.*
RMSE_XY 3.53 doq horiz. accuracy*
IMAGE_SOURCE "BLACK AND WHITE FILM" b&w, cir, natural color, other*
SOURCE_IMAGE_ID "NAPP 10509-039" source image id*
SOURCE_IMAGE_DATE 1998 9 13 source image date as yyyy mm dd*
SOURCE_DEM_DATE 1995 2 1 source dem date yyyy mm dd*
AGENCY "WESTERN MAPPING CENTER (WMC)" oversight agency*
PRODUCER "WOOLPERT LLP" producer/contractor*
PRODUCTION_SYSTEM "INTERGRAPH ISPM, ISIR" production system*
STANDARD_VERSION 1996 12 version of DOQ standard*
METADATA_DATE 2000 6 27 date created or changed, yyyy mm dd*
DATA_FILE_SIZE 46977216 data set size in bytes*
BYTE_COUNT 6136 header byte count* * * * * * * * * * * * * * * * * * * * * * * * * * * * * * * * * *
END_USGS_HEADER *
