BEGIN_USGS_DOQ_HEADER *
QUADRANGLE_NAME "LYONSVILLE" 3.45 or 7.5-min. name*
QUADRANT NE quadrant indicator if cell size = 3.75-minutes*
WEST_LONGITUDE -121 41 15.000 signed deg min sec SDDD MM SS.SSS*
EAST_LONGITUDE -121 37 30.000 signed deg min sec SDDD MM SS.SSS*
NORTH_LATITUDE 40 22 30.000 signed deg min sec SDDD MM SS.SSS*
SOUTH_LATITUDE 40 18 45.000 signed deg min sec SDDD MM SS.SSS*
PRODUCTION_DATE 2000 6 24 yyyy mm dd*
RASTER_ORDER left_right/top_bottom video display order*
BAND_ORGANIZATION "single file" single file or BSQ, or BIL or BIP*
BAND_CONTENT BLACK&WHITE black&white or red green blue*
BITS_PER_PIXEL 8 radiometric resolution*
SAMPLES_AND_LINES 6117 7644 number of columns and rows*
HORIZONTAL_DATUM NAD83 primary horizontal datum*
HORIZONTAL_COORDINATE_SYSTEM UTM *
COORDINATE_ZONE 10 coordinate system zone number*
HORIZONTAL_UNITS meters coordinate system units*
HORIZONTAL_RESOLUTION 1.00 pixel horiz. ground sample distance*
SECONDARY_HORIZONTAL_DATUM NAD27 secondary horizontal datum*
XY_ORIGIN 611023.000 4470593.000 coord. of upper left pixel pri. datum*
SECONDARY_XY_ORIGIN 611118.698 4470396.883 coord upper left pixel sec datum*
NATION US nation code*
STATE CA state fip code*
NW_QUAD_CORNER_XY 611420.929 4470206.678 XY coords. of pri. NW quad corner*
NE_QUAD_CORNER_XY 616726.850 4470287.302 XY coords. of pri. NE quad corner*
SE_QUAD_CORNER_XY 616834.652 4463349.673 XY coords. of pri. SE quad corner*
SW_QUAD_CORNER_XY 611523.829 4463269.077 XY coords. of pri. SW quad corner*
SECONDARY_NW_QUAD_XY 611423.883 4469995.938 XY coords. - sec. NW quad cor.*
SECONDARY_NE_QUAD_XY 616729.944 4470076.565 XY coords. - sec. NE quad cor.*
SECONDARY_SE_QUAD_XY 616837.745 4463139.054 XY coords. - sec. SE quad cor.*
SECONDARY_SW_QUAD_XY 611526.782 4463058.456 XY coords. - sec. SW quad cor.*
RMSE_XY 2.86 doq horiz. accuracy*
IMAGE_SOURCE "BLACK AND WHITE FILM" b&w, cir, natural color, other*
SOURCE_IMAGE_ID "NAPP 10509-029" source image id*
SOURCE_IMAGE_DATE 1998 9 13 source image date as yyyy mm dd*
SOURCE_DEM_DATE 1997 6 1 source dem date yyyy mm dd*
AGENCY "WESTERN MAPPING CENTER (WMC)" oversight agency*
PRODUCER "WOOLPERT LLP" producer/contractor*
PRODUCTION_SYSTEM "INTERGRAPH ISPM, ISIR" production system*
STANDARD_VERSION 1996 12 version of DOQ standard*
METADATA_DATE 2000 6 24 date created or changed, yyyy mm dd*
DATA_FILE_SIZE 46764465 data set size in bytes*
BYTE_COUNT 6117 header byte count* * * * * * * * * * * * * * * * * * * * * * * * * * * * * * * * * *
END_USGS_HEADER *
