BEGIN_USGS_DOQ_HEADER *
QUADRANGLE_NAME "LYONSVILLE" 3.45 or 7.5-min. name*
QUADRANT NW quadrant indicator if cell size = 3.75-minutes*
WEST_LONGITUDE -121 45 0.000 signed deg min sec SDDD MM SS.SSS*
EAST_LONGITUDE -121 41 15.000 signed deg min sec SDDD MM SS.SSS*
NORTH_LATITUDE 40 22 30.000 signed deg min sec SDDD MM SS.SSS*
SOUTH_LATITUDE 40 18 45.000 signed deg min sec SDDD MM SS.SSS*
PRODUCTION_DATE 2000 6 24 yyyy mm dd*
RASTER_ORDER left_right/top_bottom video display order*
BAND_ORGANIZATION "single file" single file or BSQ, or BIL or BIP*
BAND_CONTENT BLACK&WHITE black&white or red green blue*
BITS_PER_PIXEL 8 radiometric resolution*
SAMPLES_AND_LINES 6112 7640 number of columns and rows*
HORIZONTAL_DATUM NAD83 primary horizontal datum*
HORIZONTAL_COORDINATE_SYSTEM UTM *
COORDINATE_ZONE 10 coordinate system zone number*
HORIZONTAL_UNITS meters coordinate system units*
HORIZONTAL_RESOLUTION 1.00 pixel horiz. ground sample distance*
SECONDARY_HORIZONTAL_DATUM NAD27 secondary horizontal datum*
XY_ORIGIN 605717.000 4470512.000 coord. of upper left pixel pri. datum*
SECONDARY_XY_ORIGIN 605812.720 4470315.847 coord upper left pixel sec datum*
NATION US nation code*
STATE CA state fip code*
NW_QUAD_CORNER_XY 606115.030 4470129.804 XY coords. of pri. NW quad corner*
NE_QUAD_CORNER_XY 611420.929 4470206.678 XY coords. of pri. NE quad corner*
SE_QUAD_CORNER_XY 611523.829 4463269.077 XY coords. of pri. SE quad corner*
SW_QUAD_CORNER_XY 606213.028 4463192.232 XY coords. of pri. SW quad corner*
SECONDARY_NW_QUAD_XY 606117.843 4469919.063 XY coords. - sec. NW quad cor.*
SECONDARY_NE_QUAD_XY 611423.883 4469995.938 XY coords. - sec. NE quad cor.*
SECONDARY_SE_QUAD_XY 611526.782 4463058.456 XY coords. - sec. SE quad cor.*
SECONDARY_SW_QUAD_XY 606215.840 4462981.608 XY coords. - sec. SW quad cor.*
RMSE_XY 3.14 doq horiz. accuracy*
IMAGE_SOURCE "BLACK AND WHITE FILM" b&w, cir, natural color, other*
SOURCE_IMAGE_ID "NAPP 10500-218" source image id*
SOURCE_IMAGE_DATE 1998 8 12 source image date as yyyy mm dd*
SOURCE_DEM_DATE 1997 6 1 source dem date yyyy mm dd*
AGENCY "WESTERN MAPPING CENTER (WMC)" oversight agency*
PRODUCER "WOOLPERT LLP" producer/contractor*
PRODUCTION_SYSTEM "INTERGRAPH ISPM, ISIR" production system*
STANDARD_VERSION 1996 12 version of DOQ standard*
METADATA_DATE 2000 6 24 date created or changed, yyyy mm dd*
DATA_FILE_SIZE 46701792 data set size in bytes*
BYTE_COUNT 6112 header byte count* * * * * * * * * * * * * * * * * * * * * * * * * * * * * * * * * *
END_USGS_HEADER *
