BEGIN_USGS_DOQ_HEADER *
QUADRANGLE_NAME "RED CINDER" 3.45 or 7.5-min. name*
QUADRANT NW quadrant indicator if cell size = 3.75-minutes*
WEST_LONGITUDE -121 15 0.000 signed deg min sec SDDD MM SS.SSS*
EAST_LONGITUDE -121 11 15.000 signed deg min sec SDDD MM SS.SSS*
NORTH_LATITUDE 40 30 0.000 signed deg min sec SDDD MM SS.SSS*
SOUTH_LATITUDE 40 26 15.000 signed deg min sec SDDD MM SS.SSS*
PRODUCTION_DATE 2000 6 29 yyyy mm dd*
RASTER_ORDER left_right/top_bottom video display order*
BAND_ORGANIZATION "single file" single file or BSQ, or BIL or BIP*
BAND_CONTENT BLACK&WHITE black&white or red green blue*
BITS_PER_PIXEL 8 radiometric resolution*
SAMPLES_AND_LINES 6141 7670 number of columns and rows*
HORIZONTAL_DATUM NAD83 primary horizontal datum*
HORIZONTAL_COORDINATE_SYSTEM UTM *
COORDINATE_ZONE 10 coordinate system zone number*
HORIZONTAL_UNITS meters coordinate system units*
HORIZONTAL_RESOLUTION 1.00 pixel horiz. ground sample distance*
SECONDARY_HORIZONTAL_DATUM NAD27 secondary horizontal datum*
XY_ORIGIN 647891.000 4485138.000 coord. of upper left pixel pri. datum*
SECONDARY_XY_ORIGIN 647986.287 4484941.542 coord upper left pixel sec datum*
NATION US nation code*
STATE CA state fip code*
NW_QUAD_CORNER_XY 648287.905 4484725.719 XY coords. of pri. NW quad corner*
NE_QUAD_CORNER_XY 653584.176 4484832.688 XY coords. of pri. NE quad corner*
SE_QUAD_CORNER_XY 653726.672 4477894.682 XY coords. of pri. SE quad corner*
SW_QUAD_CORNER_XY 648425.483 4477787.750 XY coords. of pri. SW quad corner*
SECONDARY_NW_QUAD_XY 648291.848 4484514.762 XY coords. - sec. NW quad cor.*
SECONDARY_NE_QUAD_XY 653588.261 4484621.734 XY coords. - sec. NE quad cor.*
SECONDARY_SE_QUAD_XY 653730.754 4477683.845 XY coords. - sec. SE quad cor.*
SECONDARY_SW_QUAD_XY 648429.424 4477576.910 XY coords. - sec. SW quad cor.*
RMSE_XY 3.97 doq horiz. accuracy*
IMAGE_SOURCE "BLACK AND WHITE FILM" b&w, cir, natural color, other*
SOURCE_IMAGE_ID "NAPP 10503-005" source image id*
SOURCE_IMAGE_DATE 1998 8 22 source image date as yyyy mm dd*
SOURCE_IMAGE_ID "NAPP 10503-140" source image id*
SOURCE_IMAGE_DATE 1998 8 22 source image date as yyyy mm dd*
SOURCE_DEM_DATE 1995 2 1 source dem date yyyy mm dd*
AGENCY "WESTERN MAPPING CENTER (WMC)" oversight agency*
PRODUCER "WOOLPERT LLP" producer/contractor*
PRODUCTION_SYSTEM "INTERGRAPH ISPM, ISIR" production system*
STANDARD_VERSION 1996 12 version of DOQ standard*
METADATA_DATE 2000 6 29 date created or changed, yyyy mm dd*
DATA_FILE_SIZE 47107611 data set size in bytes*
BYTE_COUNT 6141 header byte count* * * * * * * * * * * * * * * * * * * * * * * * * * * * * * * *
END_USGS_HEADER *
