BEGIN_USGS_DOQ_HEADER *
QUADRANGLE_NAME "RED CINDER" 3.45 or 7.5-min. name*
QUADRANT SE quadrant indicator if cell size = 3.75-minutes*
WEST_LONGITUDE -121 11 15.000 signed deg min sec SDDD MM SS.SSS*
EAST_LONGITUDE -121 7 30.000 signed deg min sec SDDD MM SS.SSS*
NORTH_LATITUDE 40 26 15.000 signed deg min sec SDDD MM SS.SSS*
SOUTH_LATITUDE 40 22 30.000 signed deg min sec SDDD MM SS.SSS*
PRODUCTION_DATE 2000 6 29 yyyy mm dd*
RASTER_ORDER left_right/top_bottom video display order*
BAND_ORGANIZATION "single file" single file or BSQ, or BIL or BIP*
BAND_CONTENT BLACK&WHITE black&white or red green blue*
BITS_PER_PIXEL 8 radiometric resolution*
SAMPLES_AND_LINES 6151 7674 number of columns and rows*
HORIZONTAL_DATUM NAD83 primary horizontal datum*
HORIZONTAL_COORDINATE_SYSTEM UTM *
COORDINATE_ZONE 10 coordinate system zone number*
HORIZONTAL_UNITS meters coordinate system units*
HORIZONTAL_RESOLUTION 1.00 pixel horiz. ground sample distance*
SECONDARY_HORIZONTAL_DATUM NAD27 secondary horizontal datum*
XY_ORIGIN 653330.000 4478311.000 coord. of upper left pixel pri. datum*
SECONDARY_XY_ORIGIN 653425.244 4478114.643 coord upper left pixel sec datum*
NATION US nation code*
STATE CA state fip code*
NW_QUAD_CORNER_XY 653726.672 4477894.682 XY coords. of pri. NW quad corner*
NE_QUAD_CORNER_XY 659027.891 4478005.368 XY coords. of pri. NE quad corner*
SE_QUAD_CORNER_XY 659175.115 4471067.391 XY coords. of pri. SE quad corner*
SW_QUAD_CORNER_XY 653868.985 4470956.743 XY coords. of pri. SW quad corner*
SECONDARY_NW_QUAD_XY 653730.754 4477683.845 XY coords. - sec. NW quad cor.*
SECONDARY_NE_QUAD_XY 659032.114 4477794.534 XY coords. - sec. NE quad cor.*
SECONDARY_SE_QUAD_XY 659179.335 4470856.674 XY coords. - sec. SE quad cor.*
SECONDARY_SW_QUAD_XY 653873.064 4470746.024 XY coords. - sec. SW quad cor.*
RMSE_XY 3.71 doq horiz. accuracy*
IMAGE_SOURCE "BLACK AND WHITE FILM" b&w, cir, natural color, other*
SOURCE_IMAGE_ID "NAPP 10503-106" source image id*
SOURCE_IMAGE_DATE 1998 8 22 source image date as yyyy mm dd*
SOURCE_DEM_DATE 1995 2 1 source dem date yyyy mm dd*
AGENCY "WESTERN MAPPING CENTER (WMC)" oversight agency*
PRODUCER "WOOLPERT LLP" producer/contractor*
PRODUCTION_SYSTEM "INTERGRAPH ISPM, ISIR" production system*
STANDARD_VERSION 1996 12 version of DOQ standard*
METADATA_DATE 2000 6 29 date created or changed, yyyy mm dd*
DATA_FILE_SIZE 47208925 data set size in bytes*
BYTE_COUNT 6151 header byte count* * * * * * * * * * * * * * * * * * * * * * * * * * * * * * * * * *
END_USGS_HEADER *
