BEGIN_USGS_DOQ_HEADER *
QUADRANGLE_NAME "LASSEN PEAK" 3.45 or 7.5-min. name*
QUADRANT NE quadrant indicator if cell size = 3.75-minutes*
WEST_LONGITUDE -121 33 45.000 signed deg min sec SDDD MM SS.SSS*
EAST_LONGITUDE -121 30 0.000 signed deg min sec SDDD MM SS.SSS*
NORTH_LATITUDE 40 30 0.000 signed deg min sec SDDD MM SS.SSS*
SOUTH_LATITUDE 40 26 15.000 signed deg min sec SDDD MM SS.SSS*
PRODUCTION_DATE 2000 6 24 yyyy mm dd*
RASTER_ORDER left_right/top_bottom video display order*
BAND_ORGANIZATION "single file" single file or BSQ, or BIL or BIP*
BAND_CONTENT BLACK&WHITE black&white or red green blue*
BITS_PER_PIXEL 8 radiometric resolution*
SAMPLES_AND_LINES 6117 7652 number of columns and rows*
HORIZONTAL_DATUM NAD83 primary horizontal datum*
HORIZONTAL_COORDINATE_SYSTEM UTM *
COORDINATE_ZONE 10 coordinate system zone number*
HORIZONTAL_UNITS meters coordinate system units*
HORIZONTAL_RESOLUTION 1.00 pixel horiz. ground sample distance*
SECONDARY_HORIZONTAL_DATUM NAD27 secondary horizontal datum*
XY_ORIGIN 621409.000 4484641.000 coord. of upper left pixel pri. datum*
SECONDARY_XY_ORIGIN 621504.703 4484444.722 coord upper left pixel sec datum*
NATION US nation code*
STATE CA state fip code*
NW_QUAD_CORNER_XY 621806.945 4484247.210 XY coords. of pri. NW quad corner*
NE_QUAD_CORNER_XY 627103.087 4484335.402 XY coords. of pri. NE quad corner*
SE_QUAD_CORNER_XY 627221.000 4477397.570 XY coords. of pri. SE quad corner*
SW_QUAD_CORNER_XY 621919.942 4477309.410 XY coords. of pri. SW quad corner*
SECONDARY_NW_QUAD_XY 621810.185 4484036.241 XY coords. - sec. NW quad cor.*
SECONDARY_NE_QUAD_XY 627106.467 4484124.434 XY coords. - sec. NE quad cor.*
SECONDARY_SE_QUAD_XY 627224.378 4477186.719 XY coords. - sec. SE quad cor.*
SECONDARY_SW_QUAD_XY 621923.179 4477098.557 XY coords. - sec. SW quad cor.*
RMSE_XY 2.55 doq horiz. accuracy*
IMAGE_SOURCE "BLACK AND WHITE FILM" b&w, cir, natural color, other*
SOURCE_IMAGE_ID "NAPP 10508-284" source image id*
SOURCE_IMAGE_DATE 1998 9 13 source image date as yyyy mm dd*
SOURCE_DEM_DATE 1997 6 1 source dem date yyyy mm dd*
AGENCY "WESTERN MAPPING CENTER (WMC)" oversight agency*
PRODUCER "WOOLPERT LLP" producer/contractor*
PRODUCTION_SYSTEM "INTERGRAPH ISPM, ISIR" production system*
STANDARD_VERSION 1996 12 version of DOQ standard*
METADATA_DATE 2000 6 24 date created or changed, yyyy mm dd*
DATA_FILE_SIZE 46813401 data set size in bytes*
BYTE_COUNT 6117 header byte count* * * * * * * * * * * * * * * * * * * * * * * * * * * * * * * * * *
END_USGS_HEADER *
