BEGIN_USGS_DOQ_HEADER *
QUADRANGLE_NAME "SHINGLETOWN" *
QUADRANT NE *
WEST_LONGITUDE -121 56 15.0 *
EAST_LONGITUDE -121 52 30.0 *
NORTH_LATITUDE 40 30 0.0 *
SOUTH_LATITUDE 40 26 15.0 *
PRODUCTION_DATE 2001 3 21 *
RASTER_ORDER LEFT_RIGHT/TOP_BOTTOM *
BAND_ORGANIZATION "SINGLE FILE" *
BAND_CONTENT BLACK&WHITE *
BITS_PER_PIXEL 8 *
SAMPLES_AND_LINES 6091 7631 *
HORIZONTAL_DATUM NAD83 *
HORIZONTAL_COORDINATE_SYSTEM UTM *
COORDINATE_ZONE 10 *
HORIZONTAL_UNITS METERS *
HORIZONTAL_RESOLUTION 1.0 *
SECONDARY_HORIZONTAL_DATUM NAD27 *
XY_ORIGIN 589630.000 4484170.000 *
SECONDARY_XY_ORIGIN 589725.822 4483973.695 *
NATION US *
STATE CA *
NW_QUAD_CORNER_XY 590030.541 4483796.905 *
NE_QUAD_CORNER_XY 595326.560 4483862.571 *
SE_QUAD_CORNER_XY 595414.983 4476924.905 *
SW_QUAD_CORNER_XY 590114.050 4476859.262 *
SECONDARY_NW_QUAD_XY 590032.935 4483585.923 *
SECONDARY_NE_QUAD_XY 595329.095 4483651.591 *
SECONDARY_SE_QUAD_XY 595417.517 4476714.042 *
SECONDARY_SW_QUAD_XY 590116.443 4476648.397 *
RMSE_XY 0.704 *
IMAGE_SOURCE "Black and White film" *
SOURCE_IMAGE_ID "NAPP 10502-81" *
SOURCE_IMAGE_DATE 1998 08 17 *
SOURCE_DEM_DATE 1985 00 00 *
AGENCY "WESTERN MAPPING CENTER (WMC)" *
PRODUCER "Hammon, Jensen, Wallen & Associates" *
PRODUCTION_SYSTEM "ORTHOVIEW" *
STANDARD_VERSION 1996 12 *
METADATA_DATE 2001 3 21 *
DATA_FILE_SIZE 46486512 *
BYTE_COUNT 6091 * * * * * * * * * * * * * * * * * * * * * * * * * * * * * * * * * *
END_USGS_HEADER *
