BEGIN_USGS_DOQ_HEADER *
QUADRANGLE_NAME "THOUSAND LAKES VALLEY" 3.45 or 7.5-min. name*
QUADRANT NW quadrant indicator if cell size = 3.75-minutes*
WEST_LONGITUDE -121 37 30.000 signed deg min sec SDDD MM SS.SSS*
EAST_LONGITUDE -121 33 45.000 signed deg min sec SDDD MM SS.SSS*
NORTH_LATITUDE 40 45 0.000 signed deg min sec SDDD MM SS.SSS*
SOUTH_LATITUDE 40 41 15.000 signed deg min sec SDDD MM SS.SSS*
PRODUCTION_DATE 2000 6 24 yyyy mm dd*
RASTER_ORDER left_right/top_bottom video display order*
BAND_ORGANIZATION "single file" single file or BSQ, or BIL or BIP*
BAND_CONTENT BLACK&WHITE black&white or red green blue*
BITS_PER_PIXEL 8 radiometric resolution*
SAMPLES_AND_LINES 6094 7649 number of columns and rows*
HORIZONTAL_DATUM NAD83 primary horizontal datum*
HORIZONTAL_COORDINATE_SYSTEM UTM *
COORDINATE_ZONE 10 coordinate system zone number*
HORIZONTAL_UNITS meters coordinate system units*
HORIZONTAL_RESOLUTION 1.00 pixel horiz. ground sample distance*
SECONDARY_HORIZONTAL_DATUM NAD27 secondary horizontal datum*
XY_ORIGIN 615679.000 4512305.000 coord. of upper left pixel pri. datum*
SECONDARY_XY_ORIGIN 615774.490 4512108.344 coord upper left pixel sec datum*
NATION US nation code*
STATE CA state fip code*
NW_QUAD_CORNER_XY 616077.110 4511914.569 XY coords. of pri. NW quad corner*
NE_QUAD_CORNER_XY 621353.504 4511999.119 XY coords. of pri. NE quad corner*
SE_QUAD_CORNER_XY 621467.082 4505061.036 XY coords. of pri. SE quad corner*
SW_QUAD_CORNER_XY 616185.747 4504976.513 XY coords. of pri. SW quad corner*
SECONDARY_NW_QUAD_XY 616080.215 4511703.138 XY coords. - sec. NW quad cor.*
SECONDARY_NE_QUAD_XY 621356.751 4511787.691 XY coords. - sec. NE quad cor.*
SECONDARY_SE_QUAD_XY 621470.327 4504849.722 XY coords. - sec. SE quad cor.*
SECONDARY_SW_QUAD_XY 616188.851 4504765.196 XY coords. - sec. SW quad cor.*
RMSE_XY 2.84 doq horiz. accuracy*
IMAGE_SOURCE "BLACK AND WHITE FILM" b&w, cir, natural color, other*
SOURCE_IMAGE_ID "NAPP 10509-006" source image id*
SOURCE_IMAGE_DATE 1998 9 13 source image date as yyyy mm dd*
SOURCE_IMAGE_ID "NAPP 10509-008" source image id*
SOURCE_IMAGE_DATE 1998 9 13 source image date as yyyy mm dd*
SOURCE_DEM_DATE 1995 2 1 source dem date yyyy mm dd*
AGENCY "WESTERN MAPPING CENTER (WMC)" oversight agency*
PRODUCER "WOOLPERT LLP" producer/contractor*
PRODUCTION_SYSTEM "INTERGRAPH ISPM, ISIR" production system*
STANDARD_VERSION 1996 12 version of DOQ standard*
METADATA_DATE 2000 6 24 date created or changed, yyyy mm dd*
DATA_FILE_SIZE 46619100 data set size in bytes*
BYTE_COUNT 6094 header byte count* * * * * * * * * * * * * * * * * * * * * * * * * * * * * * * *
END_USGS_HEADER *
