BEGIN_USGS_DOQ_HEADER *
QUADRANGLE_NAME "JACKS BACKBONE" 3.45 or 7.5-min. name*
QUADRANT SE quadrant indicator if cell size = 3.75-minutes*
WEST_LONGITUDE -121 41 15.000 signed deg min sec SDDD MM SS.SSS*
EAST_LONGITUDE -121 37 30.000 signed deg min sec SDDD MM SS.SSS*
NORTH_LATITUDE 40 41 15.000 signed deg min sec SDDD MM SS.SSS*
SOUTH_LATITUDE 40 37 30.000 signed deg min sec SDDD MM SS.SSS*
PRODUCTION_DATE 2000 6 24 yyyy mm dd*
RASTER_ORDER left_right/top_bottom video display order*
BAND_ORGANIZATION "single file" single file or BSQ, or BIL or BIP*
BAND_CONTENT BLACK&WHITE black&white or red green blue*
BITS_PER_PIXEL 8 radiometric resolution*
SAMPLES_AND_LINES 6094 7644 number of columns and rows*
HORIZONTAL_DATUM NAD83 primary horizontal datum*
HORIZONTAL_COORDINATE_SYSTEM UTM *
COORDINATE_ZONE 10 coordinate system zone number*
HORIZONTAL_UNITS meters coordinate system units*
HORIZONTAL_RESOLUTION 1.00 pixel horiz. ground sample distance*
SECONDARY_HORIZONTAL_DATUM NAD27 secondary horizontal datum*
XY_ORIGIN 610506.000 4505282.000 coord. of upper left pixel pri. datum*
SECONDARY_XY_ORIGIN 610601.652 4505085.467 coord upper left pixel sec datum*
NATION US nation code*
STATE CA state fip code*
NW_QUAD_CORNER_XY 610904.433 4504895.749 XY coords. of pri. NW quad corner*
NE_QUAD_CORNER_XY 616185.747 4504976.513 XY coords. of pri. NE quad corner*
SE_QUAD_CORNER_XY 616294.246 4498038.529 XY coords. of pri. SE quad corner*
SW_QUAD_CORNER_XY 611007.998 4497957.792 XY coords. of pri. SW quad corner*
SECONDARY_NW_QUAD_XY 610907.396 4504684.430 XY coords. - sec. NW quad cor.*
SECONDARY_NE_QUAD_XY 616188.851 4504765.196 XY coords. - sec. NE quad cor.*
SECONDARY_SE_QUAD_XY 616297.348 4497827.327 XY coords. - sec. SE quad cor.*
SECONDARY_SW_QUAD_XY 611010.959 4497746.587 XY coords. - sec. SW quad cor.*
RMSE_XY 2.56 doq horiz. accuracy*
IMAGE_SOURCE "BLACK AND WHITE FILM" b&w, cir, natural color, other*
SOURCE_IMAGE_ID "NAPP 10509-032" source image id*
SOURCE_IMAGE_DATE 1998 9 13 source image date as yyyy mm dd*
SOURCE_DEM_DATE 1997 6 1 source dem date yyyy mm dd*
AGENCY "WESTERN MAPPING CENTER (WMC)" oversight agency*
PRODUCER "WOOLPERT LLP" producer/contractor*
PRODUCTION_SYSTEM "INTERGRAPH ISPM, ISIR" production system*
STANDARD_VERSION 1996 12 version of DOQ standard*
METADATA_DATE 2000 6 24 date created or changed, yyyy mm dd*
DATA_FILE_SIZE 46588630 data set size in bytes*
BYTE_COUNT 6094 header byte count* * * * * * * * * * * * * * * * * * * * * * * * * * * * * * * * * *
END_USGS_HEADER *
