BEGIN_USGS_DOQ_HEADER *
QUADRANGLE_NAME "WHITMORE" *
QUADRANT NE *
WEST_LONGITUDE -121 56 15.0 *
EAST_LONGITUDE -121 52 30.0 *
NORTH_LATITUDE 40 45 0.0 *
SOUTH_LATITUDE 40 41 15.0 *
PRODUCTION_DATE 2001 3 21 *
RASTER_ORDER LEFT_RIGHT/TOP_BOTTOM *
BAND_ORGANIZATION "SINGLE FILE" *
BAND_CONTENT BLACK&WHITE *
BITS_PER_PIXEL 8 *
SAMPLES_AND_LINES 6071 7631 *
HORIZONTAL_DATUM NAD83 *
HORIZONTAL_COORDINATE_SYSTEM UTM *
COORDINATE_ZONE 10 *
HORIZONTAL_UNITS METERS *
HORIZONTAL_RESOLUTION 1.0 *
SECONDARY_HORIZONTAL_DATUM NAD27 *
XY_ORIGIN 589300.000 4511920.000 *
SECONDARY_XY_ORIGIN 589395.748 4511723.327 *
NATION US *
STATE CA *
NW_QUAD_CORNER_XY 589695.428 4511548.203 *
NE_QUAD_CORNER_XY 594971.729 4511613.958 *
SE_QUAD_CORNER_XY 595060.607 4504676.003 *
SW_QUAD_CORNER_XY 589779.368 4504610.269 *
SECONDARY_NW_QUAD_XY 589697.828 4511336.763 *
SECONDARY_NE_QUAD_XY 594974.270 4511402.520 *
SECONDARY_SE_QUAD_XY 595063.147 4504464.678 *
SECONDARY_SW_QUAD_XY 589781.766 4504398.942 *
RMSE_XY 0.639 *
IMAGE_SOURCE "Black and White film" *
SOURCE_IMAGE_ID "NAPP 10502-73" *
SOURCE_IMAGE_DATE 1998 08 17 *
SOURCE_DEM_DATE 1986 00 00 *
AGENCY "WESTERN MAPPING CENTER (WMC)" *
PRODUCER "Hammon, Jensen, Wallen & Associates" *
PRODUCTION_SYSTEM "ORTHOVIEW" *
STANDARD_VERSION 1996 12 *
METADATA_DATE 2001 3 21 *
DATA_FILE_SIZE 46333872 *
BYTE_COUNT 6071 * * * * * * * * * * * * * * * * * * * * * * * * * * * * * * * * *
END_USGS_HEADER *
