BEGIN_USGS_DOQ_HEADER *
QUADRANGLE_NAME "JELLICO" 3.45 or 7.5-min. name*
QUADRANT NW quadrant indicator if cell size = 3.75-minutes*
WEST_LONGITUDE -121 22 30.000 signed deg min sec SDDD MM SS.SSS*
EAST_LONGITUDE -121 18 45.000 signed deg min sec SDDD MM SS.SSS*
NORTH_LATITUDE 40 52 30.000 signed deg min sec SDDD MM SS.SSS*
SOUTH_LATITUDE 40 48 45.000 signed deg min sec SDDD MM SS.SSS*
PRODUCTION_DATE 2000 6 28 yyyy mm dd*
RASTER_ORDER left_right/top_bottom video display order*
BAND_ORGANIZATION "single file" single file or BSQ, or BIL or BIP*
BAND_CONTENT BLACK&WHITE black&white or red green blue*
BITS_PER_PIXEL 8 radiometric resolution*
SAMPLES_AND_LINES 6102 7663 number of columns and rows*
HORIZONTAL_DATUM NAD83 primary horizontal datum*
HORIZONTAL_COORDINATE_SYSTEM UTM *
COORDINATE_ZONE 10 coordinate system zone number*
HORIZONTAL_UNITS meters coordinate system units*
HORIZONTAL_RESOLUTION 1.00 pixel horiz. ground sample distance*
SECONDARY_HORIZONTAL_DATUM NAD27 secondary horizontal datum*
XY_ORIGIN 636529.000 4526557.000 coord. of upper left pixel pri. datum*
SECONDARY_XY_ORIGIN 636624.117 4526359.803 coord upper left pixel sec datum*
NATION US nation code*
STATE CA state fip code*
NW_QUAD_CORNER_XY 636925.526 4526151.889 XY coords. of pri. NW quad corner*
NE_QUAD_CORNER_XY 642192.110 4526251.546 XY coords. of pri. NE quad corner*
SE_QUAD_CORNER_XY 642325.794 4519313.200 XY coords. of pri. SE quad corner*
SW_QUAD_CORNER_XY 637054.256 4519213.576 XY coords. of pri. SW quad corner*
SECONDARY_NW_QUAD_XY 636929.200 4525940.245 XY coords. - sec. NW quad cor.*
SECONDARY_NE_QUAD_XY 642195.926 4526039.904 XY coords. - sec. NE quad cor.*
SECONDARY_SE_QUAD_XY 642329.608 4519101.670 XY coords. - sec. SE quad cor.*
SECONDARY_SW_QUAD_XY 637057.928 4519002.043 XY coords. - sec. SW quad cor.*
RMSE_XY 3.19 doq horiz. accuracy*
IMAGE_SOURCE "BLACK AND WHITE FILM" b&w, cir, natural color, other*
SOURCE_IMAGE_ID "NAPP 10503-228" source image id*
SOURCE_IMAGE_DATE 1998 8 22 source image date as yyyy mm dd*
SOURCE_DEM_DATE 1997 6 1 source dem date yyyy mm dd*
AGENCY "WESTERN MAPPING CENTER (WMC)" oversight agency*
PRODUCER "WOOLPERT LLP" producer/contractor*
PRODUCTION_SYSTEM "INTERGRAPH ISPM, ISIR" production system*
STANDARD_VERSION 1996 12 version of DOQ standard*
METADATA_DATE 2000 6 29 date created or changed, yyyy mm dd*
DATA_FILE_SIZE 46765728 data set size in bytes*
BYTE_COUNT 6102 header byte count* * * * * * * * * * * * * * * * * * * * * * * * * * * * * * * * * *
END_USGS_HEADER *
