BEGIN_USGS_DOQ_HEADER *
QUADRANGLE_NAME "HATCHET MOUNTAIN PASS" 3.45 or 7.5-min. name*
QUADRANT SW quadrant indicator if cell size = 3.75-minutes*
WEST_LONGITUDE -121 52 30.000 signed deg min sec SDDD MM SS.SSS*
EAST_LONGITUDE -121 48 45.000 signed deg min sec SDDD MM SS.SSS*
NORTH_LATITUDE 40 48 45.000 signed deg min sec SDDD MM SS.SSS*
SOUTH_LATITUDE 40 45 0.000 signed deg min sec SDDD MM SS.SSS*
PRODUCTION_DATE 2000 6 26 yyyy mm dd*
RASTER_ORDER left_right/top_bottom video display order*
BAND_ORGANIZATION "single file" single file or BSQ, or BIL or BIP*
BAND_CONTENT BLACK&WHITE black&white or red green blue*
BITS_PER_PIXEL 8 radiometric resolution*
SAMPLES_AND_LINES 6070 7633 number of columns and rows*
HORIZONTAL_DATUM NAD83 primary horizontal datum*
HORIZONTAL_COORDINATE_SYSTEM UTM *
COORDINATE_ZONE 10 coordinate system zone number*
HORIZONTAL_UNITS meters coordinate system units*
HORIZONTAL_RESOLUTION 1.00 pixel horiz. ground sample distance*
SECONDARY_HORIZONTAL_DATUM NAD27 secondary horizontal datum*
XY_ORIGIN 594484.000 4518927.000 coord. of upper left pixel pri. datum*
SECONDARY_XY_ORIGIN 594579.647 4518730.170 coord upper left pixel sec datum*
NATION US nation code*
STATE CA state fip code*
NW_QUAD_CORNER_XY 594882.737 4518551.986 XY coords. of pri. NW quad corner*
NE_QUAD_CORNER_XY 600154.109 4518621.523 XY coords. of pri. NE quad corner*
SE_QUAD_CORNER_XY 600248.046 4511683.472 XY coords. of pri. SE quad corner*
SW_QUAD_CORNER_XY 594971.729 4511613.958 XY coords. of pri. SW quad corner*
SECONDARY_NW_QUAD_XY 594885.279 4518340.435 XY coords. - sec. NW quad cor.*
SECONDARY_NE_QUAD_XY 600156.792 4518409.974 XY coords. - sec. NE quad cor.*
SECONDARY_SE_QUAD_XY 600250.728 4511472.036 XY coords. - sec. SE quad cor.*
SECONDARY_SW_QUAD_XY 594974.270 4511402.520 XY coords. - sec. SW quad cor.*
RMSE_XY 3.13 doq horiz. accuracy*
IMAGE_SOURCE "BLACK AND WHITE FILM" b&w, cir, natural color, other*
SOURCE_IMAGE_ID "NAPP 10501-201" source image id*
SOURCE_IMAGE_DATE 1998 8 13 source image date as yyyy mm dd*
SOURCE_DEM_DATE 1995 2 1 source dem date yyyy mm dd*
AGENCY "WESTERN MAPPING CENTER (WMC)" oversight agency*
PRODUCER "WOOLPERT LLP" producer/contractor*
PRODUCTION_SYSTEM "INTERGRAPH ISPM, ISIR" production system*
STANDARD_VERSION 1996 12 version of DOQ standard*
METADATA_DATE 2000 6 26 date created or changed, yyyy mm dd*
DATA_FILE_SIZE 46338380 data set size in bytes*
BYTE_COUNT 6070 header byte count* * * * * * * * * * * * * * * * * * * * * * * * * * * * * * * * *
END_USGS_HEADER *
