BEGIN_USGS_DOQ_HEADER *
QUADRANGLE_NAME "CHALK MOUNTAIN" 3.45 or 7.5-min. name*
QUADRANT SE quadrant indicator if cell size = 3.75-minutes*
WEST_LONGITUDE -121 48 45.000 signed deg min sec SDDD MM SS.SSS*
EAST_LONGITUDE -121 45 0.000 signed deg min sec SDDD MM SS.SSS*
NORTH_LATITUDE 40 56 15.000 signed deg min sec SDDD MM SS.SSS*
SOUTH_LATITUDE 40 52 30.000 signed deg min sec SDDD MM SS.SSS*
PRODUCTION_DATE 2000 12 1 yyyy mm dd*
RASTER_ORDER LEFT_RIGHT/TOP_BOTTOM video display order*
BAND_ORGANIZATION "SINGLE FILE" single file or BSQ, or BIL or BIP*
BAND_CONTENT BLACK&WHITE black&white or red green blue*
BITS_PER_PIXEL 8 radiometric resolution*
SAMPLES_AND_LINES 6056 7630 number of columns and rows*
HORIZONTAL_DATUM NAD83 primary horizontal datum*
HORIZONTAL_COORDINATE_SYSTEM UTM *
COORDINATE_ZONE 10 coordinate system zone number*
HORIZONTAL_UNITS METERS coordinate system units*
HORIZONTAL_RESOLUTION 1.00 pixel horiz. ground sample distance*
SECONDARY_HORIZONTAL_DATUM NAD27 secondary horizontal datum*
XY_ORIGIN 599572.000 4532872.000 coord. of upper left pixel pri. datum*
SECONDARY_XY_ORIGIN 599667.398 4532674.790 coord upper left pixel sec datum*
NATION US nation code*
STATE CA state fip code*
NW_QUAD_CORNER_XY 599965.875 4532497.841 XY coords. of pri. NW quad corner*
NE_QUAD_CORNER_XY 605227.353 4532571.184 XY coords. of pri. NE quad corner*
SE_QUAD_CORNER_XY 605326.489 4525632.966 XY coords. of pri. SE quad corner*
SW_QUAD_CORNER_XY 600060.052 4525559.646 XY coords. of pri. SW quad corner*
SECONDARY_NW_QUAD_XY 599968.561 4532286.069 XY coords. - sec. NW quad cor.*
SECONDARY_NE_QUAD_XY 605230.181 4532359.415 XY coords. - sec. NE quad cor.*
SECONDARY_SE_QUAD_XY 605329.315 4525421.307 XY coords. - sec. SE quad cor.*
SECONDARY_SW_QUAD_XY 600062.737 4525347.985 XY coords. - sec. SW quad cor.*
RMSE_XY 3.50 doq horiz. accuracy*
IMAGE_SOURCE "BLACK AND WHITE FILM" b&w, cir, natural color, other*
SOURCE_IMAGE_ID "NAPP 10501 134" source image id*
SOURCE_IMAGE_DATE 1998 08 13 source image date as yyyy mm dd*
SOURCE_IMAGE_ID "NAPP 10501 133" source image id*
SOURCE_IMAGE_DATE 1998 08 13 source image date as yyyy mm dd*
SOURCE_IMAGE_ID "NAPP 10501 135" source image id*
SOURCE_IMAGE_DATE 1998 08 13 source image date as yyyy mm dd*
SOURCE_DEM_DATE 1990 00 00 source dem date yyyy mm dd*
AGENCY "WESTERN MAPPING CENTER (WMC)" oversight agency*
PRODUCER "SCIENCE APPLICATIONS INTERNATIONAL" producer/contractor*
PRODUCTION_SYSTEM "GIS/MAGIC" production system*
STANDARD_VERSION 1996 12 version of DOQ standard*
METADATA_DATE 2000 12 07 date created or changed, yyyy mm dd*
DATA_FILE_SIZE 46213336 data set size in bytes*
BYTE_COUNT 6056 header byte count* * * * * * * * * * * * * * * * * * * * * * * * * * * * *
END_USGS_HEADER *
