BEGIN_USGS_DOQ_HEADER *
QUADRANGLE_NAME "ROARING CREEK" 3.45 or 7.5-min. name*
QUADRANT NW quadrant indicator if cell size = 3.75-minutes*
WEST_LONGITUDE -122 0 0.000 signed deg min sec SDDD MM SS.SSS*
EAST_LONGITUDE -121 56 15.000 signed deg min sec SDDD MM SS.SSS*
NORTH_LATITUDE 41 0 0.000 signed deg min sec SDDD MM SS.SSS*
SOUTH_LATITUDE 40 56 15.000 signed deg min sec SDDD MM SS.SSS*
PRODUCTION_DATE 1997 5 1 yyyy mm dd*
RASTER_ORDER LEFT_RIGHT/TOP_BOTTOM video display order*
BAND_ORGANIZATION "SINGLE FILE" single file or BSQ, or BIL or BIP*
BAND_CONTENT BLACK&WHITE black&white or red green blue*
BITS_PER_PIXEL 8 radiometric resolution*
SAMPLES_AND_LINES 6037 7618 number of columns and rows*
HORIZONTAL_DATUM NAD83 primary horizontal datum*
HORIZONTAL_COORDINATE_SYSTEM UTM *
COORDINATE_ZONE 10 coordinate system zone number*
HORIZONTAL_UNITS METERS coordinate system units*
HORIZONTAL_RESOLUTION 1.00 pixel horiz. ground sample distance*
SECONDARY_HORIZONTAL_DATUM NAD27 secondary horizontal datum*
XY_ORIGIN 583707.000 4539601.000 coord. of upper left pixel pri. datum*
SECONDARY_XY_ORIGIN 583802.480 4539403.634 coord upper left pixel sec datum*
NATION US nation code*
STATE CA state fip code*
NW_QUAD_CORNER_XY 584102.134 4539238.589 XY coords. of pri. NW quad corner*
NE_QUAD_CORNER_XY 589358.600 4539300.665 XY coords. of pri. NE quad corner*
SE_QUAD_CORNER_XY 589442.968 4532362.440 XY coords. of pri. SE quad corner*
SW_QUAD_CORNER_XY 584181.538 4532300.384 XY coords. of pri. SW quad corner*
SECONDARY_NW_QUAD_XY 584104.398 4539026.702 XY coords. - sec. NW quad cor.*
SECONDARY_NE_QUAD_XY 589361.005 4539088.780 XY coords. - sec. NE quad cor.*
SECONDARY_SE_QUAD_XY 589445.372 4532150.665 XY coords. - sec. SE quad cor.*
SECONDARY_SW_QUAD_XY 584183.800 4532088.607 XY coords. - sec. SW quad cor.*
RMSE_XY 2.70 doq horiz. accuracy*
IMAGE_SOURCE "BLACK AND WHITE FILM" b&w, cir, natural color, other*
SOURCE_IMAGE_ID "NAPP 6201 184" source image id*
SOURCE_IMAGE_DATE 1993 7 7 source image date as yyyy mm dd*
IMAGE_SOURCE "BLACK AND WHITE FILM" b&w, cir, natural color, other*
SOURCE_IMAGE_ID "NAPP 6222 066" source image id*
SOURCE_IMAGE_DATE 1993 7 7 source image date as yyyy mm dd*
SOURCE_DEM_DATE 1997 5 1 source dem date yyyy mm dd*
AGENCY "WESTERN MAPPING CENTER (WMC)" oversight agency*
PRODUCER "Science Applications International" producer/contractor*
PRODUCTION_SYSTEM "GIS/MAGIC" production system*
STANDARD_VERSION 1996 12 version of DOQ standard*
METADATA_DATE 1997 10 29 date created or changed, yyyy mm dd*
DATA_FILE_SIZE 45995903 data set size in bytes*
BYTE_COUNT 6037 header byte count* * * * * * * * * * * * * * * * * * * * * * * * * * * * * *
END_USGS_HEADER *
