BEGIN_USGS_DOQ_HEADER *
QUADRANGLE_NAME "ROARING CREEK" *
QUADRANT SW *
WEST_LONGITUDE -122 0 0.000 *
EAST_LONGITUDE -121 56 15.000 *
NORTH_LATITUDE 40 56 15.000 *
SOUTH_LATITUDE 40 52 30.000 *
PRODUCTION_DATE 2001 4 26 *
RASTER_ORDER LEFT_RIGHT/TOP_BOTTOM *
BAND_ORGANIZATION "SINGLE FILE" *
BAND_CONTENT BLACK&WHITE *
BITS_PER_PIXEL 8 *
SAMPLES_AND_LINES 6039 7615 *
HORIZONTAL_DATUM NAD83 *
HORIZONTAL_COORDINATE_SYSTEM UTM *
COORDINATE_ZONE 10 *
HORIZONTAL_UNITS METERS *
HORIZONTAL_RESOLUTION 1.0 *
SECONDARY_HORIZONTAL_DATUM NAD27 *
XY_ORIGIN 583788.747 4532661.941 *
SECONDARY_XY_ORIGIN 583884.300 4532464.747 *
NATION US *
STATE CA *
NW_QUAD_CORNER_XY 584181.538 4532300.384 *
NE_QUAD_CORNER_XY 589442.968 4532362.441 *
SE_QUAD_CORNER_XY 589527.228 4525424.288 *
SW_QUAD_CORNER_XY 584260.841 4525362.251 *
SECONDARY_NW_QUAD_XY 584183.803 4532088.609 *
SECONDARY_NE_QUAD_XY 589445.375 4532150.667 *
SECONDARY_SE_QUAD_XY 589529.634 4525212.625 *
SECONDARY_SW_QUAD_XY 584263.104 4525150.588 *
RMSE_XY 2.36 *
IMAGE_SOURCE "BLACK AND WHITE FILM" *
SOURCE_IMAGE_ID "NAPP 10502 159" *
SOURCE_IMAGE_DATE 1998 8 17 *
SOURCE_IMAGE_ID "NAPP 10502 158" *
SOURCE_IMAGE_DATE 1998 8 17 *
SOURCE_IMAGE_ID "NAPP 10502 160" *
SOURCE_IMAGE_DATE 1998 8 17 *
SOURCE_IMAGE_ID "NAPP 10491 40" *
SOURCE_IMAGE_DATE 1998 9 10 *
SOURCE_IMAGE_ID "NAPP 10486 180" *
SOURCE_IMAGE_DATE 1998 8 25 *
SOURCE_IMAGE_ID "NAPP 10486 181" *
SOURCE_IMAGE_DATE 1998 8 25 *
SOURCE_IMAGE_ID "NAPP 10502 68" *
SOURCE_IMAGE_DATE 1998 8 17 *
SOURCE_IMAGE_ID "NAPP 10502 67" *
SOURCE_IMAGE_DATE 1998 8 17 *
SOURCE_IMAGE_ID "NAPP 10502 66" *
SOURCE_IMAGE_DATE 1998 8 17 *
SOURCE_DEM_DATE 2000 0 0 *
AGENCY "WESTERN MAPPING CENTER (WMC)" *
PRODUCER "USDA FS GEOSPATIAL SERVICE AND TECHNOLOGY CENTER" *
PRODUCTION_SYSTEM "ORBIT OR_RECTIFY V.5.2" *
STANDARD_VERSION 1996 12 *
METADATA_DATE 2001 5 16 *
DATA_FILE_SIZE 45993024 *
BYTE_COUNT 6039 * * * * * * * * * * * * * * * * *
END_USGS_HEADER *
