BEGIN_USGS_DOQ_HEADER *
QUADRANGLE_NAME "LOS MOLINOS" *
QUADRANT NE *
WEST_LONGITUDE -122 3 45.0 *
EAST_LONGITUDE -122 0 0.0 *
NORTH_LATITUDE 40 7 30.0 *
SOUTH_LATITUDE 40 3 45.0 *
PRODUCTION_DATE 2001 3 21 *
RASTER_ORDER LEFT_RIGHT/TOP_BOTTOM *
BAND_ORGANIZATION "SINGLE FILE" *
BAND_CONTENT BLACK&WHITE *
BITS_PER_PIXEL 8 *
SAMPLES_AND_LINES 6111 7621 *
HORIZONTAL_DATUM NAD83 *
HORIZONTAL_COORDINATE_SYSTEM UTM *
COORDINATE_ZONE 10 *
HORIZONTAL_UNITS METERS *
HORIZONTAL_RESOLUTION 1.0 *
SECONDARY_HORIZONTAL_DATUM NAD27 *
XY_ORIGIN 579480.000 4442420.000 *
SECONDARY_XY_ORIGIN 579575.813 4442224.101 *
NATION US *
STATE CA *
NW_QUAD_CORNER_XY 579879.220 4442052.326 *
NE_QUAD_CORNER_XY 585204.591 4442110.359 *
SE_QUAD_CORNER_XY 585282.578 4435173.176 *
SW_QUAD_CORNER_XY 579952.331 4435115.165 *
SECONDARY_NW_QUAD_XY 579881.325 4441842.055 *
SECONDARY_NE_QUAD_XY 585206.836 4441900.089 *
SECONDARY_SE_QUAD_XY 585284.821 4434963.027 *
SECONDARY_SW_QUAD_XY 579954.435 4434905.015 *
RMSE_XY 0.625 *
IMAGE_SOURCE "Black and White film" *
SOURCE_IMAGE_ID "NAPP 10475-85" *
SOURCE_IMAGE_DATE 1998 08 11 *
SOURCE_DEM_DATE 1969 00 00 *
AGENCY "WESTERN MAPPING CENTER (WMC)" *
PRODUCER "Hammon, Jensen, Wallen & Associates" *
PRODUCTION_SYSTEM "ORTHOVIEW" *
STANDARD_VERSION 1996 12 *
METADATA_DATE 2001 3 21 *
DATA_FILE_SIZE 46578042 *
BYTE_COUNT 6111 * * * * * * * * * * * * * * * * * * * * * * * * * * * * * * * * * *
END_USGS_HEADER *
