BEGIN_USGS_DOQ_HEADER *
QUADRANGLE_NAME "LOS MOLINOS" *
QUADRANT NW *
WEST_LONGITUDE -122 7 30.0 *
EAST_LONGITUDE -122 3 45.0 *
NORTH_LATITUDE 40 7 30.0 *
SOUTH_LATITUDE 40 3 45.0 *
PRODUCTION_DATE 2001 3 21 *
RASTER_ORDER LEFT_RIGHT/TOP_BOTTOM *
BAND_ORGANIZATION "SINGLE FILE" *
BAND_CONTENT BLACK&WHITE *
BITS_PER_PIXEL 8 *
SAMPLES_AND_LINES 6111 7621 *
HORIZONTAL_DATUM NAD83 *
HORIZONTAL_COORDINATE_SYSTEM UTM *
COORDINATE_ZONE 10 *
HORIZONTAL_UNITS METERS *
HORIZONTAL_RESOLUTION 1.0 *
SECONDARY_HORIZONTAL_DATUM NAD27 *
XY_ORIGIN 574150.000 4442360.000 *
SECONDARY_XY_ORIGIN 574245.837 4442164.099 *
NATION US *
STATE CA *
NW_QUAD_CORNER_XY 574553.865 4441998.038 *
NE_QUAD_CORNER_XY 579879.220 4442052.326 *
SE_QUAD_CORNER_XY 579952.331 4435115.165 *
SW_QUAD_CORNER_XY 574622.101 4435060.897 *
SECONDARY_NW_QUAD_XY 574555.830 4441787.765 *
SECONDARY_NE_QUAD_XY 579881.325 4441842.055 *
SECONDARY_SE_QUAD_XY 579954.435 4434905.015 *
SECONDARY_SW_QUAD_XY 574624.064 4434850.746 *
RMSE_XY 0.484 *
IMAGE_SOURCE "Black and White film" *
SOURCE_IMAGE_ID "NAPP 10474-20" *
SOURCE_IMAGE_DATE 1998 08 11 *
SOURCE_DEM_DATE 1969 00 00 *
AGENCY "WESTERN MAPPING CENTER (WMC)" *
PRODUCER "Hammon, Jensen, Wallen & Associates" *
PRODUCTION_SYSTEM "ORTHOVIEW" *
STANDARD_VERSION 1996 12 *
METADATA_DATE 2001 3 21 *
DATA_FILE_SIZE 46578042 *
BYTE_COUNT 6111 * * * * * * * * * * * * * * * * * * * * * * * * * * * * * * * * * *
END_USGS_HEADER *
