BEGIN_USGS_DOQ_HEADER *
QUADRANGLE_NAME "GERBER" *
QUADRANT SE *
WEST_LONGITUDE -122 11 15.0 *
EAST_LONGITUDE -122 7 30.0 *
NORTH_LATITUDE 40 3 45.0 *
SOUTH_LATITUDE 40 0 0.0 *
PRODUCTION_DATE 2001 3 22 *
RASTER_ORDER LEFT_RIGHT/TOP_BOTTOM *
BAND_ORGANIZATION "SINGLE FILE" *
BAND_CONTENT BLACK&WHITE *
BITS_PER_PIXEL 8 *
SAMPLES_AND_LINES 6111 7621 *
HORIZONTAL_DATUM NAD83 *
HORIZONTAL_COORDINATE_SYSTEM UTM *
COORDINATE_ZONE 10 *
HORIZONTAL_UNITS METERS *
HORIZONTAL_RESOLUTION 1.0 *
SECONDARY_HORIZONTAL_DATUM NAD27 *
XY_ORIGIN 568890.000 4435370.000 *
SECONDARY_XY_ORIGIN 568985.804 4435174.183 *
NATION US *
STATE CA *
NW_QUAD_CORNER_XY 569291.887 4435010.373 *
NE_QUAD_CORNER_XY 574622.101 4435060.897 *
SE_QUAD_CORNER_XY 574690.248 4428123.830 *
SW_QUAD_CORNER_XY 569355.165 4428073.325 *
SECONDARY_NW_QUAD_XY 569293.710 4434800.221 *
SECONDARY_NE_QUAD_XY 574624.064 4434850.746 *
SECONDARY_SE_QUAD_XY 574692.210 4427913.801 *
SECONDARY_SW_QUAD_XY 569356.987 4427863.295 *
RMSE_XY 0.573 *
IMAGE_SOURCE "Black and White film" *
SOURCE_IMAGE_ID "NAPP 10494-22" *
SOURCE_IMAGE_DATE 1999 07 29 *
SOURCE_DEM_DATE 1976 00 00 *
AGENCY "WESTERN MAPPING CENTER (WMC)" *
PRODUCER "Hammon, Jensen, Wallen & Associates" *
PRODUCTION_SYSTEM "ORTHOVIEW" *
STANDARD_VERSION 1996 12 *
METADATA_DATE 2001 3 22 *
DATA_FILE_SIZE 46578042 *
BYTE_COUNT 6111 * * * * * * * * * * * * * * * * * * * * * * * * * * * * * * * * * *
END_USGS_HEADER *
