BEGIN_USGS_DOQ_HEADER *
QUADRANGLE_NAME "GERBER" *
QUADRANT SW *
WEST_LONGITUDE -122 15 0.0 *
EAST_LONGITUDE -122 11 15.0 *
NORTH_LATITUDE 40 3 45.0 *
SOUTH_LATITUDE 40 0 0.0 *
PRODUCTION_DATE 2001 3 21 *
RASTER_ORDER LEFT_RIGHT/TOP_BOTTOM *
BAND_ORGANIZATION "SINGLE FILE" *
BAND_CONTENT BLACK&WHITE *
BITS_PER_PIXEL 8 *
SAMPLES_AND_LINES 6101 7611 *
HORIZONTAL_DATUM NAD83 *
HORIZONTAL_COORDINATE_SYSTEM UTM *
COORDINATE_ZONE 10 *
HORIZONTAL_UNITS METERS *
HORIZONTAL_RESOLUTION 1.0 *
SECONDARY_HORIZONTAL_DATUM NAD27 *
XY_ORIGIN 563560.000 4435320.000 *
SECONDARY_XY_ORIGIN 563655.823 4435124.177 *
NATION US *
STATE CA *
NW_QUAD_CORNER_XY 563961.686 4434963.592 *
NE_QUAD_CORNER_XY 569291.887 4435010.373 *
SE_QUAD_CORNER_XY 569355.165 4428073.325 *
SW_QUAD_CORNER_XY 564020.096 4428026.562 *
SECONDARY_NW_QUAD_XY 563963.369 4434753.438 *
SECONDARY_NE_QUAD_XY 569293.710 4434800.221 *
SECONDARY_SE_QUAD_XY 569356.987 4427863.295 *
SECONDARY_SW_QUAD_XY 564021.778 4427816.531 *
RMSE_XY 0.487 *
IMAGE_SOURCE "Black and White film" *
SOURCE_IMAGE_ID "NAPP 10491-7" *
SOURCE_IMAGE_DATE 1998 09 10 *
SOURCE_DEM_DATE 1976 00 00 *
AGENCY "WESTERN MAPPING CENTER (WMC)" *
PRODUCER "Hammon, Jensen, Wallen & Associates" *
PRODUCTION_SYSTEM "ORTHOVIEW" *
STANDARD_VERSION 1996 12 *
METADATA_DATE 2001 3 21 *
DATA_FILE_SIZE 46440812 *
BYTE_COUNT 6101 * * * * * * * * * * * * * * * * * * * * * * * * * * * * * * * * * *
END_USGS_HEADER *
