BEGIN_USGS_DOQ_HEADER *
QUADRANGLE_NAME "WEST OF GERBER" *
QUADRANT NE *
WEST_LONGITUDE -122 18 45.0 *
EAST_LONGITUDE -122 15 0.0 *
NORTH_LATITUDE 40 7 30.0 *
SOUTH_LATITUDE 40 3 45.0 *
PRODUCTION_DATE 2001 3 21 *
RASTER_ORDER LEFT_RIGHT/TOP_BOTTOM *
BAND_ORGANIZATION "SINGLE FILE" *
BAND_CONTENT BLACK&WHITE *
BITS_PER_PIXEL 8 *
SAMPLES_AND_LINES 6091 7611 *
HORIZONTAL_DATUM NAD83 *
HORIZONTAL_COORDINATE_SYSTEM UTM *
COORDINATE_ZONE 10 *
HORIZONTAL_UNITS METERS *
HORIZONTAL_RESOLUTION 1.0 *
SECONDARY_HORIZONTAL_DATUM NAD27 *
XY_ORIGIN 558180.000 4442210.000 *
SECONDARY_XY_ORIGIN 558275.950 4442014.085 *
NATION US *
STATE CA *
NW_QUAD_CORNER_XY 558577.887 4441857.642 *
NE_QUAD_CORNER_XY 563903.200 4441900.696 *
SE_QUAD_CORNER_XY 563961.686 4434963.592 *
SW_QUAD_CORNER_XY 558631.499 4434920.554 *
SECONDARY_NW_QUAD_XY 558579.431 4441647.365 *
SECONDARY_NE_QUAD_XY 563904.884 4441690.420 *
SECONDARY_SE_QUAD_XY 563963.369 4434753.438 *
SECONDARY_SW_QUAD_XY 558633.042 4434710.399 *
RMSE_XY 0.566 *
IMAGE_SOURCE "Black and White film" *
SOURCE_IMAGE_ID "NAPP 10475-164" *
SOURCE_IMAGE_DATE 1998 08 11 *
SOURCE_DEM_DATE 1969 00 00 *
AGENCY "WESTERN MAPPING CENTER (WMC)" *
PRODUCER "Hammon, Jensen, Wallen & Associates" *
PRODUCTION_SYSTEM "ORTHOVIEW" *
STANDARD_VERSION 1996 12 *
METADATA_DATE 2001 3 21 *
DATA_FILE_SIZE 46364692 *
BYTE_COUNT 6091 * * * * * * * * * * * * * * * * * * * * * * * * * * * * * * * * * *
END_USGS_HEADER *
