BEGIN_USGS_DOQ_HEADER *
QUADRANGLE_NAME "WEST OF GERBER" *
QUADRANT NW *
WEST_LONGITUDE -122 22 30.0 *
EAST_LONGITUDE -122 18 45.0 *
NORTH_LATITUDE 40 7 30.0 *
SOUTH_LATITUDE 40 3 45.0 *
PRODUCTION_DATE 2001 3 21 *
RASTER_ORDER LEFT_RIGHT/TOP_BOTTOM *
BAND_ORGANIZATION "SINGLE FILE" *
BAND_CONTENT BLACK&WHITE *
BITS_PER_PIXEL 8 *
SAMPLES_AND_LINES 6091 7601 *
HORIZONTAL_DATUM NAD83 *
HORIZONTAL_COORDINATE_SYSTEM UTM *
COORDINATE_ZONE 10 *
HORIZONTAL_UNITS METERS *
HORIZONTAL_RESOLUTION 1.0 *
SECONDARY_HORIZONTAL_DATUM NAD27 *
XY_ORIGIN 552850.000 4442160.000 *
SECONDARY_XY_ORIGIN 552946.010 4441964.074 *
NATION US *
STATE CA *
NW_QUAD_CORNER_XY 553252.587 4441818.331 *
NE_QUAD_CORNER_XY 558577.887 4441857.642 *
SE_QUAD_CORNER_XY 558631.499 4434920.554 *
SW_QUAD_CORNER_XY 553301.324 4434881.259 *
SECONDARY_NW_QUAD_XY 553253.990 4441608.054 *
SECONDARY_NE_QUAD_XY 558579.431 4441647.365 *
SECONDARY_SE_QUAD_XY 558633.042 4434710.399 *
SECONDARY_SW_QUAD_XY 553302.727 4434671.103 *
RMSE_XY 0.629 *
IMAGE_SOURCE "Black and White film" *
SOURCE_IMAGE_ID "NAPP 10475-215" *
SOURCE_IMAGE_DATE 1998 08 11 *
SOURCE_DEM_DATE 1969 00 00 *
AGENCY "WESTERN MAPPING CENTER (WMC)" *
PRODUCER "Hammon, Jensen, Wallen & Associates" *
PRODUCTION_SYSTEM "ORTHOVIEW" *
STANDARD_VERSION 1996 12 *
METADATA_DATE 2001 3 21 *
DATA_FILE_SIZE 46303782 *
BYTE_COUNT 6091 * * * * * * * * * * * * * * * * * * * * * * * * * * * * * * * * * *
END_USGS_HEADER *
