BEGIN_USGS_DOQ_HEADER *
QUADRANGLE_NAME "WEST OF GERBER" *
QUADRANT SW *
WEST_LONGITUDE -122 22 30.0 *
EAST_LONGITUDE -122 18 45.0 *
NORTH_LATITUDE 40 3 45.0 *
SOUTH_LATITUDE 40 0 0.0 *
PRODUCTION_DATE 2001 3 21 *
RASTER_ORDER LEFT_RIGHT/TOP_BOTTOM *
BAND_ORGANIZATION "SINGLE FILE" *
BAND_CONTENT BLACK&WHITE *
BITS_PER_PIXEL 8 *
SAMPLES_AND_LINES 6091 7611 *
HORIZONTAL_DATUM NAD83 *
HORIZONTAL_COORDINATE_SYSTEM UTM *
COORDINATE_ZONE 10 *
HORIZONTAL_UNITS METERS *
HORIZONTAL_RESOLUTION 1.0 *
SECONDARY_HORIZONTAL_DATUM NAD27 *
XY_ORIGIN 552900.000 4435230.000 *
SECONDARY_XY_ORIGIN 552995.938 4435034.157 *
NATION US *
STATE CA *
NW_QUAD_CORNER_XY 553301.324 4434881.259 *
NE_QUAD_CORNER_XY 558631.499 4434920.554 *
SE_QUAD_CORNER_XY 558685.041 4427983.541 *
SW_QUAD_CORNER_XY 553349.998 4427944.261 *
SECONDARY_NW_QUAD_XY 553302.727 4434671.103 *
SECONDARY_NE_QUAD_XY 558633.042 4434710.399 *
SECONDARY_SE_QUAD_XY 558686.583 4427773.508 *
SECONDARY_SW_QUAD_XY 553351.400 4427734.227 *
RMSE_XY 0.701 *
IMAGE_SOURCE "Black and White film" *
SOURCE_IMAGE_ID "NAPP 10475-217" *
SOURCE_IMAGE_DATE 1998 08 11 *
SOURCE_DEM_DATE 1969 00 00 *
AGENCY "WESTERN MAPPING CENTER (WMC)" *
PRODUCER "Hammon, Jensen, Wallen & Associates" *
PRODUCTION_SYSTEM "ORTHOVIEW" *
STANDARD_VERSION 1996 12 *
METADATA_DATE 2001 3 21 *
DATA_FILE_SIZE 46364692 *
BYTE_COUNT 6091 * * * * * * * * * * * * * * * * * * * * * * * * * * * * * * * * * *
END_USGS_HEADER *
