BEGIN_USGS_DOQ_HEADER *
QUADRANGLE_NAME "RED BANK" *
QUADRANT NE *
WEST_LONGITUDE -122 26 15.0 *
EAST_LONGITUDE -122 22 30.0 *
NORTH_LATITUDE 40 7 30.0 *
SOUTH_LATITUDE 40 3 45.0 *
PRODUCTION_DATE 2001 3 21 *
RASTER_ORDER LEFT_RIGHT/TOP_BOTTOM *
BAND_ORGANIZATION "SINGLE FILE" *
BAND_CONTENT BLACK&WHITE *
BITS_PER_PIXEL 8 *
SAMPLES_AND_LINES 6081 7591 *
HORIZONTAL_DATUM NAD83 *
HORIZONTAL_COORDINATE_SYSTEM UTM *
COORDINATE_ZONE 10 *
HORIZONTAL_UNITS METERS *
HORIZONTAL_RESOLUTION 1.0 *
SECONDARY_HORIZONTAL_DATUM NAD27 *
XY_ORIGIN 547530.000 4442120.000 *
SECONDARY_XY_ORIGIN 547626.071 4441924.064 *
NATION US *
STATE CA *
NW_QUAD_CORNER_XY 547927.297 4441782.766 *
NE_QUAD_CORNER_XY 553252.587 4441818.331 *
SE_QUAD_CORNER_XY 553301.324 4434881.259 *
SW_QUAD_CORNER_XY 547971.161 4434845.707 *
SECONDARY_NW_QUAD_XY 547928.560 4441572.487 *
SECONDARY_NE_QUAD_XY 553253.990 4441608.054 *
SECONDARY_SE_QUAD_XY 553302.727 4434671.103 *
SECONDARY_SW_QUAD_XY 547972.423 4434635.550 *
RMSE_XY 0.566 *
IMAGE_SOURCE "Black and White film" *
SOURCE_IMAGE_ID "NAPP 10476-20" *
SOURCE_IMAGE_DATE 1998 08 11 *
SOURCE_DEM_DATE 1969 00 00 *
AGENCY "WESTERN MAPPING CENTER (WMC)" *
PRODUCER "Hammon, Jensen, Wallen & Associates" *
PRODUCTION_SYSTEM "ORTHOVIEW" *
STANDARD_VERSION 1996 12 *
METADATA_DATE 2001 3 21 *
DATA_FILE_SIZE 46166952 *
BYTE_COUNT 6081 * * * * * * * * * * * * * * * * * * * * * * * * * * * * * * * * *
END_USGS_HEADER *
