BEGIN_USGS_DOQ_HEADER *
QUADRANGLE_NAME "RED BANK" *
QUADRANT NW *
WEST_LONGITUDE -122 30 0.0 *
EAST_LONGITUDE -122 26 15.0 *
NORTH_LATITUDE 40 7 30.0 *
SOUTH_LATITUDE 40 3 45.0 *
PRODUCTION_DATE 2001 3 22 *
RASTER_ORDER LEFT_RIGHT/TOP_BOTTOM *
BAND_ORGANIZATION "SINGLE FILE" *
BAND_CONTENT BLACK&WHITE *
BITS_PER_PIXEL 8 *
SAMPLES_AND_LINES 6081 7601 *
HORIZONTAL_DATUM NAD83 *
HORIZONTAL_COORDINATE_SYSTEM UTM *
COORDINATE_ZONE 10 *
HORIZONTAL_UNITS METERS *
HORIZONTAL_RESOLUTION 1.0 *
SECONDARY_HORIZONTAL_DATUM NAD27 *
XY_ORIGIN 542200.000 4442090.000 *
SECONDARY_XY_ORIGIN 542296.125 4441894.051 *
NATION US *
STATE CA *
NW_QUAD_CORNER_XY 542602.017 4441750.944 *
NE_QUAD_CORNER_XY 547927.297 4441782.766 *
SE_QUAD_CORNER_XY 547971.161 4434845.707 *
SW_QUAD_CORNER_XY 542641.007 4434813.897 *
SECONDARY_NW_QUAD_XY 542603.140 4441540.664 *
SECONDARY_NE_QUAD_XY 547928.560 4441572.487 *
SECONDARY_SE_QUAD_XY 547972.423 4434635.550 *
SECONDARY_SW_QUAD_XY 542642.128 4434603.739 *
RMSE_XY 0.645 *
IMAGE_SOURCE "Black and White film" *
SOURCE_IMAGE_ID "NAPP 10494-51" *
SOURCE_IMAGE_DATE 1999 07 29 *
SOURCE_DEM_DATE 1969 00 00 *
AGENCY "WESTERN MAPPING CENTER (WMC)" *
PRODUCER "Hammon, Jensen, Wallen & Associates" *
PRODUCTION_SYSTEM "ORTHOVIEW" *
STANDARD_VERSION 1996 12 *
METADATA_DATE 2001 3 22 *
DATA_FILE_SIZE 46227762 *
BYTE_COUNT 6081 * * * * * * * * * * * * * * * * * * * * * * * * * * * * * * * * *
END_USGS_HEADER *
