BEGIN_USGS_DOQ_HEADER *
QUADRANGLE_NAME "RED BANK" *
QUADRANT SW *
WEST_LONGITUDE -122 30 0.0 *
EAST_LONGITUDE -122 26 15.0 *
NORTH_LATITUDE 40 3 45.0 *
SOUTH_LATITUDE 40 0 0.0 *
PRODUCTION_DATE 2001 3 21 *
RASTER_ORDER LEFT_RIGHT/TOP_BOTTOM *
BAND_ORGANIZATION "SINGLE FILE" *
BAND_CONTENT BLACK&WHITE *
BITS_PER_PIXEL 8 *
SAMPLES_AND_LINES 6081 7591 *
HORIZONTAL_DATUM NAD83 *
HORIZONTAL_COORDINATE_SYSTEM UTM *
COORDINATE_ZONE 10 *
HORIZONTAL_UNITS METERS *
HORIZONTAL_RESOLUTION 1.0 *
SECONDARY_HORIZONTAL_DATUM NAD27 *
XY_ORIGIN 542240.000 4435150.000 *
SECONDARY_XY_ORIGIN 542336.046 4434954.133 *
NATION US *
STATE CA *
NW_QUAD_CORNER_XY 542641.007 4434813.897 *
NE_QUAD_CORNER_XY 547971.161 4434845.707 *
SE_QUAD_CORNER_XY 548014.967 4427908.722 *
SW_QUAD_CORNER_XY 542679.945 4427876.924 *
SECONDARY_NW_QUAD_XY 542642.128 4434603.739 *
SECONDARY_NE_QUAD_XY 547972.423 4434635.550 *
SECONDARY_SE_QUAD_XY 548016.228 4427698.688 *
SECONDARY_SW_QUAD_XY 542681.066 4427666.889 *
RMSE_XY 0.673 *
IMAGE_SOURCE "Black and White film" *
SOURCE_IMAGE_ID "NAPP 10476-81" *
SOURCE_IMAGE_DATE 1998 08 11 *
SOURCE_DEM_DATE 1969 00 00 *
AGENCY "WESTERN MAPPING CENTER (WMC)" *
PRODUCER "Hammon, Jensen, Wallen & Associates" *
PRODUCTION_SYSTEM "ORTHOVIEW" *
STANDARD_VERSION 1996 12 *
METADATA_DATE 2001 3 21 *
DATA_FILE_SIZE 46166952 *
BYTE_COUNT 6081 * * * * * * * * * * * * * * * * * * * * * * * * * * * * * * * * *
END_USGS_HEADER *
