BEGIN_USGS_DOQ_HEADER *
QUADRANGLE_NAME "LOWREY" *
QUADRANT SW *
WEST_LONGITUDE -122 37 30.0 *
EAST_LONGITUDE -122 33 45.0 *
NORTH_LATITUDE 40 3 45.0 *
SOUTH_LATITUDE 40 0 0.0 *
PRODUCTION_DATE 2001 3 21 *
RASTER_ORDER LEFT_RIGHT/TOP_BOTTOM *
BAND_ORGANIZATION "SINGLE FILE" *
BAND_CONTENT BLACK&WHITE *
BITS_PER_PIXEL 8 *
SAMPLES_AND_LINES 6071 7581 *
HORIZONTAL_DATUM NAD83 *
HORIZONTAL_COORDINATE_SYSTEM UTM *
COORDINATE_ZONE 10 *
HORIZONTAL_UNITS METERS *
HORIZONTAL_RESOLUTION 1.0 *
SECONDARY_HORIZONTAL_DATUM NAD27 *
XY_ORIGIN 531580.000 4435090.000 *
SECONDARY_XY_ORIGIN 531675.919 4434894.024 *
NATION US *
STATE CA *
NW_QUAD_CORNER_XY 531980.724 4434761.505 *
NE_QUAD_CORNER_XY 537310.862 4434785.830 *
SE_QUAD_CORNER_XY 537344.932 4427848.868 *
SW_QUAD_CORNER_XY 532009.927 4427824.553 *
SECONDARY_NW_QUAD_XY 531981.565 4434551.346 *
SECONDARY_NE_QUAD_XY 537311.843 4434575.671 *
SECONDARY_SE_QUAD_XY 537345.913 4427638.832 *
SECONDARY_SW_QUAD_XY 532010.768 4427614.516 *
RMSE_XY 0.637 *
IMAGE_SOURCE "Black and White film" *
SOURCE_IMAGE_ID "NAPP 10476-116" *
SOURCE_IMAGE_DATE 1998 08 11 *
SOURCE_DEM_DATE 1967 00 00 *
AGENCY "WESTERN MAPPING CENTER (WMC)" *
PRODUCER "Hammon, Jensen, Wallen & Associates" *
PRODUCTION_SYSTEM "ORTHOVIEW" *
STANDARD_VERSION 1996 12 *
METADATA_DATE 2001 3 21 *
DATA_FILE_SIZE 46030322 *
BYTE_COUNT 6071 * * * * * * * * * * * * * * * * * * * * * * * * * * * * * * * * *
END_USGS_HEADER *
