BEGIN_USGS_DOQ_HEADER *
QUADRANGLE_NAME "RAGLIN RIDGE" 3.45 or 7.5-min. name*
QUADRANT NE quadrant indicator if cell size = 3.75-minutes*
WEST_LONGITUDE -122 41 15.000 signed deg min sec SDDD MM SS.SSS*
EAST_LONGITUDE -122 37 30.000 signed deg min sec SDDD MM SS.SSS*
NORTH_LATITUDE 40 7 30.000 signed deg min sec SDDD MM SS.SSS*
SOUTH_LATITUDE 40 3 45.000 signed deg min sec SDDD MM SS.SSS*
PRODUCTION_DATE 1996 4 30 yyyy mm dd*
RASTER_ORDER LEFT_RIGHT/TOP_BOTTOM video display order*
BAND_ORGANIZATION "SINGLE FILE" single file or BSQ, or BIL or BIP*
BAND_CONTENT BLACK&WHITE black&white or red green blue*
BITS_PER_PIXEL 8 radiometric resolution*
SAMPLES_AND_LINES 6060 7582 number of columns and rows*
HORIZONTAL_DATUM NAD83 primary horizontal datum*
HORIZONTAL_COORDINATE_SYSTEM UTM *
COORDINATE_ZONE 10 coordinate system zone number*
HORIZONTAL_UNITS METERS coordinate system units*
HORIZONTAL_RESOLUTION 1.00 pixel horiz. ground sample distance*
SECONDARY_HORIZONTAL_DATUM NAD27 secondary horizontal datum*
XY_ORIGIN 526226.500 4442003.500 coord. of upper left pixel pri. datum*
SECONDARY_XY_ORIGIN 526322.482 4441807.412 coord upper left pixel sec datum*
NATION US nation code*
STATE CA state fip code*
NW_QUAD_CORNER_XY 526626.225 4441677.942 XY coords. of pri. NW quad corner*
NE_QUAD_CORNER_XY 531951.483 4441698.532 XY coords. of pri. NE quad corner*
SE_QUAD_CORNER_XY 531980.724 4434761.505 XY coords. of pri. SE quad corner*
SW_QUAD_CORNER_XY 526650.593 4434740.922 XY coords. of pri. SW quad corner*
SECONDARY_NW_QUAD_XY 526626.927 4441467.660 XY coords. - sec. NW quad cor.*
SECONDARY_NE_QUAD_XY 531952.324 4441488.251 XY coords. - sec. NE quad cor.*
SECONDARY_SE_QUAD_XY 531981.566 4434551.346 XY coords. - sec. SE quad cor.*
SECONDARY_SW_QUAD_XY 526651.294 4434530.763 XY coords. - sec. SW quad cor.*
RMSE_XY 2.20 doq horiz. accuracy*
IMAGE_SOURCE "BLACK AND WHITE FILM" b&w, cir, natural color, other*
SOURCE_IMAGE_ID "PAPP 0260 010" source image id*
SOURCE_IMAGE_DATE 1994 8 10 source image date as yyyy mm dd*
IMAGE_SOURCE "BLACK AND WHITE FILM" b&w, cir, natural color, other*
SOURCE_IMAGE_ID "PAPP 0260 111" source image id*
SOURCE_IMAGE_DATE 1994 8 10 source image date as yyyy mm dd*
SOURCE_DEM_DATE 1996 4 30 source dem date yyyy mm dd*
AGENCY "WESTERN MAPPING CENTER (WMC)" oversight agency*
PRODUCER "Woolpert Consultants" producer/contractor*
PRODUCTION_SYSTEM "INTERGRAPH ISPM,ISIR" production system*
STANDARD_VERSION 1996 12 version of DOQ standard*
METADATA_DATE 1997 5 27 date created or changed, yyyy mm dd*
DATA_FILE_SIZE 45952980 data set size in bytes*
BYTE_COUNT 6060 header byte count* * * * * * * * * * * * * * * * * * * * * * * * * * * * * *
END_USGS_HEADER *
