BEGIN_USGS_DOQ_HEADER *
QUADRANGLE_NAME "RAGLIN RIDGE" *
QUADRANT SE *
WEST_LONGITUDE -122 41 15.000 *
EAST_LONGITUDE -122 37 30.000 *
NORTH_LATITUDE 40 3 45.000 *
SOUTH_LATITUDE 40 0 0.000 *
PRODUCTION_DATE 2000 11 25 *
RASTER_ORDER LEFT_RIGHT/TOP_BOTTOM *
BAND_ORGANIZATION "SINGLE FILE" *
BAND_CONTENT BLACK&WHITE *
BITS_PER_PIXEL 8 *
SAMPLES_AND_LINES 6054 7572 *
HORIZONTAL_DATUM NAD83 *
HORIZONTAL_COORDINATE_SYSTEM UTM *
COORDINATE_ZONE 10 *
HORIZONTAL_UNITS METERS *
HORIZONTAL_RESOLUTION 1.0 *
SECONDARY_HORIZONTAL_DATUM NAD27 *
XY_ORIGIN 526255.440 4435061.505 *
SECONDARY_XY_ORIGIN 526351.297 4434865.475 *
NATION US *
STATE CA *
NW_QUAD_CORNER_XY 526650.593 4434740.922 *
NE_QUAD_CORNER_XY 531980.724 4434761.505 *
SE_QUAD_CORNER_XY 532009.927 4427824.553 *
SW_QUAD_CORNER_XY 526674.929 4427803.978 *
SECONDARY_NW_QUAD_XY 526651.295 4434530.763 *
SECONDARY_NE_QUAD_XY 531981.566 4434551.346 *
SECONDARY_SE_QUAD_XY 532010.769 4427614.516 *
SECONDARY_SW_QUAD_XY 526675.631 4427593.941 *
RMSE_XY 0.80 *
IMAGE_SOURCE "BLACK AND WHITE FILM" *
SOURCE_IMAGE_ID "NAPP 10476 190" *
SOURCE_IMAGE_DATE 1998 8 11 *
SOURCE_IMAGE_ID "NAPP 10476 189" *
SOURCE_IMAGE_DATE 1998 8 11 *
SOURCE_IMAGE_ID "NAPP 10476 191" *
SOURCE_IMAGE_DATE 1998 8 11 *
SOURCE_IMAGE_ID "NAPP 10484 115" *
SOURCE_IMAGE_DATE 1998 9 21 *
SOURCE_IMAGE_ID "NAPP 10484 116" *
SOURCE_IMAGE_DATE 1998 9 21 *
SOURCE_IMAGE_ID "NAPP 10484 117" *
SOURCE_IMAGE_DATE 1998 9 21 *
SOURCE_DEM_DATE 2000 0 0 *
AGENCY "WESTERN MAPPING CENTER (WMC)" *
PRODUCER "USDA FS GEOSPATIAL SERVICE AND TECHNOLOGY CENTER" *
PRODUCTION_SYSTEM "ORBIT OR_RECTIFY V.5.2" *
STANDARD_VERSION 1996 12 *
METADATA_DATE 2000 11 25 *
DATA_FILE_SIZE 45846942 *
BYTE_COUNT 6054 * * * * * * * * * * * * * * * * * * * * * * *
END_USGS_HEADER *
