BEGIN_USGS_DOQ_HEADER *
QUADRANGLE_NAME "SOUTH YOLLA BOLLY MOUNTAINS" *
QUADRANT NE *
WEST_LONGITUDE -122 48 45.000 *
EAST_LONGITUDE -122 45 0.000 *
NORTH_LATITUDE 40 7 30.000 *
SOUTH_LATITUDE 40 3 45.000 *
PRODUCTION_DATE 2000 11 25 *
RASTER_ORDER LEFT_RIGHT/TOP_BOTTOM *
BAND_ORGANIZATION "SINGLE FILE" *
BAND_CONTENT BLACK&WHITE *
BITS_PER_PIXEL 8 *
SAMPLES_AND_LINES 6040 7564 *
HORIZONTAL_DATUM NAD83 *
HORIZONTAL_COORDINATE_SYSTEM UTM *
COORDINATE_ZONE 10 *
HORIZONTAL_UNITS METERS *
HORIZONTAL_RESOLUTION 1.0 *
SECONDARY_HORIZONTAL_DATUM NAD27 *
XY_ORIGIN 515580.226 4441961.095 *
SECONDARY_XY_ORIGIN 515676.154 4441764.930 *
NATION US *
STATE CA *
NW_QUAD_CORNER_XY 515975.727 4441647.992 *
NE_QUAD_CORNER_XY 521300.974 4441661.095 *
SE_QUAD_CORNER_XY 521320.468 4434724.082 *
SW_QUAD_CORNER_XY 515990.347 4434710.985 *
SECONDARY_NW_QUAD_XY 515976.149 4441437.711 *
SECONDARY_NE_QUAD_XY 521301.537 4441450.814 *
SECONDARY_SE_QUAD_XY 521321.031 4434513.923 *
SECONDARY_SW_QUAD_XY 515990.770 4434500.825 *
RMSE_XY 0.80 *
IMAGE_SOURCE "BLACK AND WHITE FILM" *
SOURCE_IMAGE_ID "NAPP 10484 79" *
SOURCE_IMAGE_DATE 1998 9 21 *
SOURCE_IMAGE_ID "NAPP 10484 80" *
SOURCE_IMAGE_DATE 1998 9 21 *
SOURCE_IMAGE_ID "NAPP 10484 78" *
SOURCE_IMAGE_DATE 1998 9 21 *
SOURCE_IMAGE_ID "NAPP 10484 71" *
SOURCE_IMAGE_DATE 1998 9 21 *
SOURCE_IMAGE_ID "NAPP 10484 72" *
SOURCE_IMAGE_DATE 1998 9 21 *
SOURCE_IMAGE_ID "NAPP 10484 73" *
SOURCE_IMAGE_DATE 1998 9 21 *
SOURCE_DEM_DATE 2000 0 0 *
AGENCY "WESTERN MAPPING CENTER (WMC)" *
PRODUCER "USDA FS GEOSPATIAL SERVICE AND TECHNOLOGY CENTER" *
PRODUCTION_SYSTEM "ORBIT OR_RECTIFY V.5.2" *
STANDARD_VERSION 1996 12 *
METADATA_DATE 2000 11 25 *
DATA_FILE_SIZE 45692600 *
BYTE_COUNT 6040 * * * * * * * * * * * * * * * * * * * * * * *
END_USGS_HEADER *
