BEGIN_USGS_DOQ_HEADER *
QUADRANGLE_NAME "SOUTH YOLLA BOLLY MOUNTAINS" *
QUADRANT NW *
WEST_LONGITUDE -122 52 30.000 *
EAST_LONGITUDE -122 48 45.000 *
NORTH_LATITUDE 40 7 30.000 *
SOUTH_LATITUDE 40 3 45.000 *
PRODUCTION_DATE 2000 11 25 *
RASTER_ORDER LEFT_RIGHT/TOP_BOTTOM *
BAND_ORGANIZATION "SINGLE FILE" *
BAND_CONTENT BLACK&WHITE *
BITS_PER_PIXEL 8 *
SAMPLES_AND_LINES 6035 7560 *
HORIZONTAL_DATUM NAD83 *
HORIZONTAL_COORDINATE_SYSTEM UTM *
COORDINATE_ZONE 10 *
HORIZONTAL_UNITS METERS *
HORIZONTAL_RESOLUTION 1.0 *
SECONDARY_HORIZONTAL_DATUM NAD27 *
XY_ORIGIN 510255.350 4441947.992 *
SECONDARY_XY_ORIGIN 510351.269 4441751.796 *
NATION US *
STATE CA *
NW_QUAD_CORNER_XY 510650.483 4441638.633 *
NE_QUAD_CORNER_XY 515975.727 4441647.992 *
SE_QUAD_CORNER_XY 515990.347 4434710.985 *
SW_QUAD_CORNER_XY 510660.230 4434701.629 *
SECONDARY_NW_QUAD_XY 510650.765 4441428.352 *
SECONDARY_NE_QUAD_XY 515976.149 4441437.711 *
SECONDARY_SE_QUAD_XY 515990.770 4434500.825 *
SECONDARY_SW_QUAD_XY 510660.512 4434491.469 *
RMSE_XY 0.80 *
IMAGE_SOURCE "BLACK AND WHITE FILM" *
SOURCE_IMAGE_ID "NAPP 10484 72" *
SOURCE_IMAGE_DATE 1998 9 21 *
SOURCE_IMAGE_ID "NAPP 10484 71" *
SOURCE_IMAGE_DATE 1998 9 21 *
SOURCE_IMAGE_ID "NAPP 10484 73" *
SOURCE_IMAGE_DATE 1998 9 21 *
SOURCE_IMAGE_ID "NAPP 10484 80" *
SOURCE_IMAGE_DATE 1998 9 21 *
SOURCE_IMAGE_ID "NAPP 10484 79" *
SOURCE_IMAGE_DATE 1998 9 21 *
SOURCE_IMAGE_ID "NAPP 10484 78" *
SOURCE_IMAGE_DATE 1998 9 21 *
SOURCE_DEM_DATE 2000 0 0 *
AGENCY "WESTERN MAPPING CENTER (WMC)" *
PRODUCER "USDA FS GEOSPATIAL SERVICE AND TECHNOLOGY CENTER" *
PRODUCTION_SYSTEM "ORBIT OR_RECTIFY V.5.2" *
STANDARD_VERSION 1996 12 *
METADATA_DATE 2000 11 25 *
DATA_FILE_SIZE 45630635 *
BYTE_COUNT 6035 * * * * * * * * * * * * * * * * * * * * * * *
END_USGS_HEADER *
