BEGIN_USGS_DOQ_HEADER *
QUADRANGLE_NAME "SOUTH YOLLA BOLLY MOUNTAINS" *
QUADRANT SW *
WEST_LONGITUDE -122 52 30.000 *
EAST_LONGITUDE -122 48 45.000 *
NORTH_LATITUDE 40 3 45.000 *
SOUTH_LATITUDE 40 0 0.000 *
PRODUCTION_DATE 2000 11 25 *
RASTER_ORDER LEFT_RIGHT/TOP_BOTTOM *
BAND_ORGANIZATION "SINGLE FILE" *
BAND_CONTENT BLACK&WHITE *
BITS_PER_PIXEL 8 *
SAMPLES_AND_LINES 6040 7560 *
HORIZONTAL_DATUM NAD83 *
HORIZONTAL_COORDINATE_SYSTEM UTM *
COORDINATE_ZONE 10 *
HORIZONTAL_UNITS METERS *
HORIZONTAL_RESOLUTION 1.0 *
SECONDARY_HORIZONTAL_DATUM NAD27 *
XY_ORIGIN 510264.713 4435010.985 *
SECONDARY_XY_ORIGIN 510360.518 4434814.839 *
NATION US *
STATE CA *
NW_QUAD_CORNER_XY 510660.230 4434701.629 *
NE_QUAD_CORNER_XY 515990.347 4434710.985 *
SE_QUAD_CORNER_XY 516004.949 4427774.052 *
SW_QUAD_CORNER_XY 510669.964 4427764.700 *
SECONDARY_NW_QUAD_XY 510660.512 4434491.469 *
SECONDARY_NE_QUAD_XY 515990.770 4434500.825 *
SECONDARY_SE_QUAD_XY 516005.371 4427564.015 *
SECONDARY_SW_QUAD_XY 510670.247 4427554.663 *
RMSE_XY 0.80 *
IMAGE_SOURCE "BLACK AND WHITE FILM" *
SOURCE_IMAGE_ID "NAPP 10484 70" *
SOURCE_IMAGE_DATE 1998 9 21 *
SOURCE_IMAGE_ID "NAPP 10484 69" *
SOURCE_IMAGE_DATE 1998 9 21 *
SOURCE_IMAGE_ID "NAPP 10484 71" *
SOURCE_IMAGE_DATE 1998 9 21 *
SOURCE_IMAGE_ID "NAPP 10484 82" *
SOURCE_IMAGE_DATE 1998 9 21 *
SOURCE_IMAGE_ID "NAPP 10484 81" *
SOURCE_IMAGE_DATE 1998 9 21 *
SOURCE_IMAGE_ID "NAPP 10484 80" *
SOURCE_IMAGE_DATE 1998 9 21 *
SOURCE_DEM_DATE 2000 0 0 *
AGENCY "WESTERN MAPPING CENTER (WMC)" *
PRODUCER "USDA FS GEOSPATIAL SERVICE AND TECHNOLOGY CENTER" *
PRODUCTION_SYSTEM "ORBIT OR_RECTIFY V.5.2" *
STANDARD_VERSION 1996 12 *
METADATA_DATE 2000 11 25 *
DATA_FILE_SIZE 45668440 *
BYTE_COUNT 6040 * * * * * * * * * * * * * * * * * * * * * * *
END_USGS_HEADER *
