BEGIN_USGS_DOQ_HEADER *
QUADRANGLE_NAME "SOLOMON PEAK" *
QUADRANT SW *
WEST_LONGITUDE -123 0 0.000 *
EAST_LONGITUDE -122 56 15.000 *
NORTH_LATITUDE 40 3 45.000 *
SOUTH_LATITUDE 40 0 0.000 *
PRODUCTION_DATE 2000 11 25 *
RASTER_ORDER LEFT_RIGHT/TOP_BOTTOM *
BAND_ORGANIZATION "SINGLE FILE" *
BAND_CONTENT BLACK&WHITE *
BITS_PER_PIXEL 8 *
SAMPLES_AND_LINES 6031 7553 *
HORIZONTAL_DATUM NAD83 *
HORIZONTAL_COORDINATE_SYSTEM UTM *
COORDINATE_ZONE 10 *
HORIZONTAL_UNITS METERS *
HORIZONTAL_RESOLUTION 1.0 *
SECONDARY_HORIZONTAL_DATUM NAD27 *
XY_ORIGIN 499604.696 4434995.516 *
SECONDARY_XY_ORIGIN 499700.507 4434799.306 *
NATION US *
STATE CA *
NW_QUAD_CORNER_XY 500000.000 4434694.145 *
NE_QUAD_CORNER_XY 505330.114 4434696.016 *
SE_QUAD_CORNER_XY 505334.981 4427759.089 *
SW_QUAD_CORNER_XY 500000.000 4427757.219 *
SECONDARY_NW_QUAD_XY 500000.002 4434483.985 *
SECONDARY_NE_QUAD_XY 505330.257 4434485.856 *
SECONDARY_SE_QUAD_XY 505335.124 4427549.052 *
SECONDARY_SW_QUAD_XY 500000.003 4427547.181 *
RMSE_XY 0.80 *
IMAGE_SOURCE "BLACK AND WHITE FILM" *
SOURCE_IMAGE_ID "NAPP 10484 35" *
SOURCE_IMAGE_DATE 1998 9 21 *
SOURCE_IMAGE_ID "NAPP 10484 36" *
SOURCE_IMAGE_DATE 1998 9 21 *
SOURCE_IMAGE_ID "NAPP 10484 34" *
SOURCE_IMAGE_DATE 1998 9 21 *
SOURCE_IMAGE_ID "NAPP 10484 19" *
SOURCE_IMAGE_DATE 1998 9 21 *
SOURCE_IMAGE_ID "NAPP 10484 20" *
SOURCE_IMAGE_DATE 1998 9 21 *
SOURCE_IMAGE_ID "NAPP 10484 21" *
SOURCE_IMAGE_DATE 1998 9 21 *
SOURCE_DEM_DATE 2000 0 0 *
AGENCY "WESTERN MAPPING CENTER (WMC)" *
PRODUCER "USDA FS GEOSPATIAL SERVICE AND TECHNOLOGY CENTER" *
PRODUCTION_SYSTEM "ORBIT OR_RECTIFY V.5.2" *
STANDARD_VERSION 1996 12 *
METADATA_DATE 2000 11 25 *
DATA_FILE_SIZE 45558174 *
BYTE_COUNT 6031 * * * * * * * * * * * * * * * * * * * * * * *
END_USGS_HEADER *
