BEGIN_USGS_DOQ_HEADER *
QUADRANGLE_NAME "TUSCAN SPRINGS" *
QUADRANT SE *
WEST_LONGITUDE -122 3 45.0 *
EAST_LONGITUDE -122 0 0.0 *
NORTH_LATITUDE 40 11 15.0 *
SOUTH_LATITUDE 40 7 30.0 *
PRODUCTION_DATE 2001 3 21 *
RASTER_ORDER LEFT_RIGHT/TOP_BOTTOM *
BAND_ORGANIZATION "SINGLE FILE" *
BAND_CONTENT BLACK&WHITE *
BITS_PER_PIXEL 8 *
SAMPLES_AND_LINES 6101 7621 *
HORIZONTAL_DATUM NAD83 *
HORIZONTAL_COORDINATE_SYSTEM UTM *
COORDINATE_ZONE 10 *
HORIZONTAL_UNITS METERS *
HORIZONTAL_RESOLUTION 1.0 *
SECONDARY_HORIZONTAL_DATUM NAD27 *
XY_ORIGIN 579410.000 4449350.000 *
SECONDARY_XY_ORIGIN 579505.856 4449154.009 *
NATION US *
STATE CA *
NW_QUAD_CORNER_XY 579806.014 4448989.561 *
NE_QUAD_CORNER_XY 585126.503 4449047.616 *
SE_QUAD_CORNER_XY 585204.591 4442110.359 *
SW_QUAD_CORNER_XY 579879.220 4442052.326 *
SECONDARY_NW_QUAD_XY 579808.120 4448779.169 *
SECONDARY_NE_QUAD_XY 585128.750 4448837.225 *
SECONDARY_SE_QUAD_XY 585206.836 4441900.089 *
SECONDARY_SW_QUAD_XY 579881.325 4441842.055 *
RMSE_XY 0.652 *
IMAGE_SOURCE "Black and White film" *
SOURCE_IMAGE_ID "NAPP 10475-87" *
SOURCE_IMAGE_DATE 1998 08 11 *
SOURCE_DEM_DATE 1969 00 00 *
AGENCY "WESTERN MAPPING CENTER (WMC)" *
PRODUCER "Hammon, Jensen, Wallen & Associates" *
PRODUCTION_SYSTEM "ORTHOVIEW" *
STANDARD_VERSION 1996 12 *
METADATA_DATE 2001 3 21 *
DATA_FILE_SIZE 46501822 *
BYTE_COUNT 6101 * * * * * * * * * * * * * * * * * * * * * * * * * * * * * * * * * *
END_USGS_HEADER *
