BEGIN_USGS_DOQ_HEADER *
QUADRANGLE_NAME "TUSCAN SPRINGS" *
QUADRANT SW *
WEST_LONGITUDE -122 7 30.0 *
EAST_LONGITUDE -122 3 45.0 *
NORTH_LATITUDE 40 11 15.0 *
SOUTH_LATITUDE 40 7 30.0 *
PRODUCTION_DATE 2001 3 21 *
RASTER_ORDER LEFT_RIGHT/TOP_BOTTOM *
BAND_ORGANIZATION "SINGLE FILE" *
BAND_CONTENT BLACK&WHITE *
BITS_PER_PIXEL 8 *
SAMPLES_AND_LINES 6091 7611 *
HORIZONTAL_DATUM NAD83 *
HORIZONTAL_COORDINATE_SYSTEM UTM *
COORDINATE_ZONE 10 *
HORIZONTAL_UNITS METERS *
HORIZONTAL_RESOLUTION 1.0 *
SECONDARY_HORIZONTAL_DATUM NAD27 *
XY_ORIGIN 574090.000 4449290.000 *
SECONDARY_XY_ORIGIN 574185.889 4449094.011 *
NATION US *
STATE CA *
NW_QUAD_CORNER_XY 574485.540 4448935.252 *
NE_QUAD_CORNER_XY 579806.014 4448989.561 *
SE_QUAD_CORNER_XY 579879.220 4442052.326 *
SW_QUAD_CORNER_XY 574553.865 4441998.038 *
SECONDARY_NW_QUAD_XY 574487.506 4448724.859 *
SECONDARY_NE_QUAD_XY 579808.120 4448779.169 *
SECONDARY_SE_QUAD_XY 579881.325 4441842.055 *
SECONDARY_SW_QUAD_XY 574555.830 4441787.765 *
RMSE_XY 0.658 *
IMAGE_SOURCE "Black and White film" *
SOURCE_IMAGE_ID "NAPP 10491-23" *
SOURCE_IMAGE_DATE 1998 09 10 *
SOURCE_DEM_DATE 1969 00 00 *
AGENCY "WESTERN MAPPING CENTER (WMC)" *
PRODUCER "Hammon, Jensen, Wallen & Associates" *
PRODUCTION_SYSTEM "ORTHOVIEW" *
STANDARD_VERSION 1996 12 *
METADATA_DATE 2001 3 21 *
DATA_FILE_SIZE 46364692 *
BYTE_COUNT 6091 * * * * * * * * * * * * * * * * * * * * * * * * * * * * * * * * * *
END_USGS_HEADER *
