BEGIN_USGS_DOQ_HEADER *
QUADRANGLE_NAME "RED BLUFF EAST" *
QUADRANT NE *
WEST_LONGITUDE -122 11 15.0 *
EAST_LONGITUDE -122 7 30.0 *
NORTH_LATITUDE 40 15 0.0 *
SOUTH_LATITUDE 40 11 15.0 *
PRODUCTION_DATE 2001 3 21 *
RASTER_ORDER LEFT_RIGHT/TOP_BOTTOM *
BAND_ORGANIZATION "SINGLE FILE" *
BAND_CONTENT BLACK&WHITE *
BITS_PER_PIXEL 8 *
SAMPLES_AND_LINES 6091 7611 *
HORIZONTAL_DATUM NAD83 *
HORIZONTAL_COORDINATE_SYSTEM UTM *
COORDINATE_ZONE 10 *
HORIZONTAL_UNITS METERS *
HORIZONTAL_RESOLUTION 1.0 *
SECONDARY_HORIZONTAL_DATUM NAD27 *
XY_ORIGIN 568700.000 4456180.000 *
SECONDARY_XY_ORIGIN 568795.976 4455983.932 *
NATION US *
STATE CA *
NW_QUAD_CORNER_XY 569101.555 4455821.959 *
NE_QUAD_CORNER_XY 574417.126 4455872.540 *
SE_QUAD_CORNER_XY 574485.540 4448935.252 *
SW_QUAD_CORNER_XY 569165.082 4448884.690 *
SECONDARY_NW_QUAD_XY 569103.382 4455611.444 *
SECONDARY_NE_QUAD_XY 574419.093 4455662.026 *
SECONDARY_SE_QUAD_XY 574487.506 4448724.859 *
SECONDARY_SW_QUAD_XY 569166.907 4448674.295 *
RMSE_XY 0.678 *
IMAGE_SOURCE "Black and White film" *
SOURCE_IMAGE_ID "NAPP 10475-42" *
SOURCE_IMAGE_DATE 1998 08 11 *
SOURCE_DEM_DATE 1976 00 00 *
AGENCY "WESTERN MAPPING CENTER (WMC)" *
PRODUCER "Hammon, Jensen, Wallen & Associates" *
PRODUCTION_SYSTEM "ORTHOVIEW" *
STANDARD_VERSION 1996 12 *
METADATA_DATE 2001 3 21 *
DATA_FILE_SIZE 46364692 *
BYTE_COUNT 6091 * * * * * * * * * * * * * * * * * * * * * * * * * * * * * * * * * *
END_USGS_HEADER *
