BEGIN_USGS_DOQ_HEADER *
QUADRANGLE_NAME "RED BLUFF EAST" *
QUADRANT NW *
WEST_LONGITUDE -122 15 0.0 *
EAST_LONGITUDE -122 11 15.0 *
NORTH_LATITUDE 40 15 0.0 *
SOUTH_LATITUDE 40 11 15.0 *
PRODUCTION_DATE 2001 3 21 *
RASTER_ORDER LEFT_RIGHT/TOP_BOTTOM *
BAND_ORGANIZATION "SINGLE FILE" *
BAND_CONTENT BLACK&WHITE *
BITS_PER_PIXEL 8 *
SAMPLES_AND_LINES 6081 7611 *
HORIZONTAL_DATUM NAD83 *
HORIZONTAL_COORDINATE_SYSTEM UTM *
COORDINATE_ZONE 10 *
HORIZONTAL_UNITS METERS *
HORIZONTAL_RESOLUTION 1.0 *
SECONDARY_HORIZONTAL_DATUM NAD27 *
XY_ORIGIN 563390.000 4456130.000 *
SECONDARY_XY_ORIGIN 563486.017 4455933.936 *
NATION US *
STATE CA *
NW_QUAD_CORNER_XY 563785.998 4455775.125 *
NE_QUAD_CORNER_XY 569101.555 4455821.959 *
SE_QUAD_CORNER_XY 569165.082 4448884.690 *
SW_QUAD_CORNER_XY 563844.637 4448837.874 *
SECONDARY_NW_QUAD_XY 563787.684 4455564.609 *
SECONDARY_NE_QUAD_XY 569103.382 4455611.444 *
SECONDARY_SE_QUAD_XY 569166.907 4448674.295 *
SECONDARY_SW_QUAD_XY 563846.322 4448627.477 *
RMSE_XY 0.639 *
IMAGE_SOURCE "Black and White film" *
SOURCE_IMAGE_ID "NAPP 10475-129" *
SOURCE_IMAGE_DATE 1998 08 11 *
SOURCE_DEM_DATE 1976 00 00 *
AGENCY "WESTERN MAPPING CENTER (WMC)" *
PRODUCER "Hammon, Jensen, Wallen & Associates" *
PRODUCTION_SYSTEM "ORTHOVIEW" *
STANDARD_VERSION 1996 12 *
METADATA_DATE 2001 3 21 *
DATA_FILE_SIZE 46288572 *
BYTE_COUNT 6081 * * * * * * * * * * * * * * * * * * * * * * * * * * * * * * * * *
END_USGS_HEADER *
