BEGIN_USGS_DOQ_HEADER *
QUADRANGLE_NAME "RED BLUFF WEST" *
QUADRANT SW *
WEST_LONGITUDE -122 22 30.0 *
EAST_LONGITUDE -122 18 45.0 *
NORTH_LATITUDE 40 11 15.0 *
SOUTH_LATITUDE 40 7 30.0 *
PRODUCTION_DATE 2001 3 21 *
RASTER_ORDER LEFT_RIGHT/TOP_BOTTOM *
BAND_ORGANIZATION "SINGLE FILE" *
BAND_CONTENT BLACK&WHITE *
BITS_PER_PIXEL 8 *
SAMPLES_AND_LINES 6081 7601 *
HORIZONTAL_DATUM NAD83 *
HORIZONTAL_COORDINATE_SYSTEM UTM *
COORDINATE_ZONE 10 *
HORIZONTAL_UNITS METERS *
HORIZONTAL_RESOLUTION 1.0 *
SECONDARY_HORIZONTAL_DATUM NAD27 *
XY_ORIGIN 552800.000 4449100.000 *
SECONDARY_XY_ORIGIN 552896.083 4448903.993 *
NATION US *
STATE CA *
NW_QUAD_CORNER_XY 553203.786 4448755.478 *
NE_QUAD_CORNER_XY 558524.205 4448794.803 *
SE_QUAD_CORNER_XY 558577.887 4441857.642 *
SW_QUAD_CORNER_XY 553252.587 4441818.331 *
SECONDARY_NW_QUAD_XY 553205.190 4448545.080 *
SECONDARY_NE_QUAD_XY 558525.750 4448584.405 *
SECONDARY_SE_QUAD_XY 558579.431 4441647.365 *
SECONDARY_SW_QUAD_XY 553253.990 4441608.054 *
RMSE_XY 0.676 *
IMAGE_SOURCE "Black and White film" *
SOURCE_IMAGE_ID "NAPP 10475-213" *
SOURCE_IMAGE_DATE 1998 08 11 *
SOURCE_DEM_DATE 1969 00 00 *
AGENCY "WESTERN MAPPING CENTER (WMC)" *
PRODUCER "Hammon, Jensen, Wallen & Associates" *
PRODUCTION_SYSTEM "ORTHOVIEW" *
STANDARD_VERSION 1996 12 *
METADATA_DATE 2001 3 21 *
DATA_FILE_SIZE 46227762 *
BYTE_COUNT 6081 * * * * * * * * * * * * * * * * * * * * * * * * * * * * * * * * *
END_USGS_HEADER *
