BEGIN_USGS_DOQ_HEADER *
QUADRANGLE_NAME "BLOSSOM" *
QUADRANT NW *
WEST_LONGITUDE -122 30 0.0 *
EAST_LONGITUDE -122 26 15.0 *
NORTH_LATITUDE 40 15 0.0 *
SOUTH_LATITUDE 40 11 15.0 *
PRODUCTION_DATE 2001 3 21 *
RASTER_ORDER LEFT_RIGHT/TOP_BOTTOM *
BAND_ORGANIZATION "SINGLE FILE" *
BAND_CONTENT BLACK&WHITE *
BITS_PER_PIXEL 8 *
SAMPLES_AND_LINES 6071 7591 *
HORIZONTAL_DATUM NAD83 *
HORIZONTAL_COORDINATE_SYSTEM UTM *
COORDINATE_ZONE 10 *
HORIZONTAL_UNITS METERS *
HORIZONTAL_RESOLUTION 1.0 *
SECONDARY_HORIZONTAL_DATUM NAD27 *
XY_ORIGIN 542120.000 4455960.000 *
SECONDARY_XY_ORIGIN 542216.279 4455763.889 *
NATION US *
STATE CA *
NW_QUAD_CORNER_XY 542523.886 4455625.261 *
NE_QUAD_CORNER_XY 547839.399 4455657.107 *
SE_QUAD_CORNER_XY 547883.376 4448719.899 *
SW_QUAD_CORNER_XY 542562.977 4448688.065 *
SECONDARY_NW_QUAD_XY 542525.010 4455414.741 *
SECONDARY_NE_QUAD_XY 547840.663 4455446.587 *
SECONDARY_SE_QUAD_XY 547884.640 4448509.499 *
SECONDARY_SW_QUAD_XY 542564.100 4448477.665 *
RMSE_XY 0.677 *
IMAGE_SOURCE "Black and White film" *
SOURCE_IMAGE_ID "NAPP 10476-75" *
SOURCE_IMAGE_DATE 1998 08 11 *
SOURCE_DEM_DATE 1969 00 00 *
AGENCY "WESTERN MAPPING CENTER (WMC)" *
PRODUCER "Hammon, Jensen, Wallen & Associates" *
PRODUCTION_SYSTEM "ORTHOVIEW" *
STANDARD_VERSION 1996 12 *
METADATA_DATE 2001 3 21 *
DATA_FILE_SIZE 46091032 *
BYTE_COUNT 6071 * * * * * * * * * * * * * * * * * * * * * * * * * * * * * * * * *
END_USGS_HEADER *
