BEGIN_USGS_DOQ_HEADER *
QUADRANGLE_NAME "BLOSSOM" *
QUADRANT SE *
WEST_LONGITUDE -122 26 15.0 *
EAST_LONGITUDE -122 22 30.0 *
NORTH_LATITUDE 40 11 15.0 *
SOUTH_LATITUDE 40 7 30.0 *
PRODUCTION_DATE 2001 3 21 *
RASTER_ORDER LEFT_RIGHT/TOP_BOTTOM *
BAND_ORGANIZATION "SINGLE FILE" *
BAND_CONTENT BLACK&WHITE *
BITS_PER_PIXEL 8 *
SAMPLES_AND_LINES 6081 7601 *
HORIZONTAL_DATUM NAD83 *
HORIZONTAL_COORDINATE_SYSTEM UTM *
COORDINATE_ZONE 10 *
HORIZONTAL_UNITS METERS *
HORIZONTAL_RESOLUTION 1.0 *
SECONDARY_HORIZONTAL_DATUM NAD27 *
XY_ORIGIN 547480.000 4449060.000 *
SECONDARY_XY_ORIGIN 547576.147 4448863.982 *
NATION US *
STATE CA *
NW_QUAD_CORNER_XY 547883.376 4448719.899 *
NE_QUAD_CORNER_XY 553203.786 4448755.478 *
SE_QUAD_CORNER_XY 553252.587 4441818.331 *
SW_QUAD_CORNER_XY 547927.297 4441782.766 *
SECONDARY_NW_QUAD_XY 547884.640 4448509.499 *
SECONDARY_NE_QUAD_XY 553205.190 4448545.080 *
SECONDARY_SE_QUAD_XY 553253.990 4441608.054 *
SECONDARY_SW_QUAD_XY 547928.560 4441572.487 *
RMSE_XY 0.647 *
IMAGE_SOURCE "Black and White film" *
SOURCE_IMAGE_ID "NAPP 10476-22" *
SOURCE_IMAGE_DATE 1998 08 11 *
SOURCE_DEM_DATE 1969 00 00 *
AGENCY "WESTERN MAPPING CENTER (WMC)" *
PRODUCER "Hammon, Jensen, Wallen & Associates" *
PRODUCTION_SYSTEM "ORTHOVIEW" *
STANDARD_VERSION 1996 12 *
METADATA_DATE 2001 3 21 *
DATA_FILE_SIZE 46227762 *
BYTE_COUNT 6081 * * * * * * * * * * * * * * * * * * * * * * * * * * * * * * * * *
END_USGS_HEADER *
