BEGIN_USGS_DOQ_HEADER *
QUADRANGLE_NAME "BLOSSOM" *
QUADRANT SW *
WEST_LONGITUDE -122 30 0.0 *
EAST_LONGITUDE -122 26 15.0 *
NORTH_LATITUDE 40 11 15.0 *
SOUTH_LATITUDE 40 7 30.0 *
PRODUCTION_DATE 2001 3 21 *
RASTER_ORDER LEFT_RIGHT/TOP_BOTTOM *
BAND_ORGANIZATION "SINGLE FILE" *
BAND_CONTENT BLACK&WHITE *
BITS_PER_PIXEL 8 *
SAMPLES_AND_LINES 6071 7591 *
HORIZONTAL_DATUM NAD83 *
HORIZONTAL_COORDINATE_SYSTEM UTM *
COORDINATE_ZONE 10 *
HORIZONTAL_UNITS METERS *
HORIZONTAL_RESOLUTION 1.0 *
SECONDARY_HORIZONTAL_DATUM NAD27 *
XY_ORIGIN 542160.000 4449020.000 *
SECONDARY_XY_ORIGIN 542256.204 4448823.969 *
NATION US *
STATE CA *
NW_QUAD_CORNER_XY 542562.977 4448688.065 *
NE_QUAD_CORNER_XY 547883.376 4448719.899 *
SE_QUAD_CORNER_XY 547927.297 4441782.766 *
SW_QUAD_CORNER_XY 542602.017 4441750.944 *
SECONDARY_NW_QUAD_XY 542564.100 4448477.665 *
SECONDARY_NE_QUAD_XY 547884.640 4448509.499 *
SECONDARY_SE_QUAD_XY 547928.560 4441572.487 *
SECONDARY_SW_QUAD_XY 542603.140 4441540.664 *
RMSE_XY 0.662 *
IMAGE_SOURCE "Black and White film" *
SOURCE_IMAGE_ID "NAPP 10476-77" *
SOURCE_IMAGE_DATE 1998 08 11 *
SOURCE_DEM_DATE 1969 00 00 *
AGENCY "WESTERN MAPPING CENTER (WMC)" *
PRODUCER "Hammon, Jensen, Wallen & Associates" *
PRODUCTION_SYSTEM "ORTHOVIEW" *
STANDARD_VERSION 1996 12 *
METADATA_DATE 2001 3 21 *
DATA_FILE_SIZE 46091032 *
BYTE_COUNT 6071 * * * * * * * * * * * * * * * * * * * * * * * * * * * * * * * * *
END_USGS_HEADER *
