BEGIN_USGS_DOQ_HEADER *
QUADRANGLE_NAME "OXBOW BRIDGE" *
QUADRANT SE *
WEST_LONGITUDE -122 33 45.0 *
EAST_LONGITUDE -122 30 0.0 *
NORTH_LATITUDE 40 11 15.0 *
SOUTH_LATITUDE 40 7 30.0 *
PRODUCTION_DATE 2001 3 21 *
RASTER_ORDER LEFT_RIGHT/TOP_BOTTOM *
BAND_ORGANIZATION "SINGLE FILE" *
BAND_CONTENT BLACK&WHITE *
BITS_PER_PIXEL 8 *
SAMPLES_AND_LINES 6071 7591 *
HORIZONTAL_DATUM NAD83 *
HORIZONTAL_COORDINATE_SYSTEM UTM *
COORDINATE_ZONE 10 *
HORIZONTAL_UNITS METERS *
HORIZONTAL_RESOLUTION 1.0 *
SECONDARY_HORIZONTAL_DATUM NAD27 *
XY_ORIGIN 536840.000 4448990.000 *
SECONDARY_XY_ORIGIN 536936.172 4448793.931 *
NATION US *
STATE CA *
NW_QUAD_CORNER_XY 537242.586 4448659.977 *
NE_QUAD_CORNER_XY 542562.977 4448688.065 *
SE_QUAD_CORNER_XY 542602.017 4441750.944 *
SW_QUAD_CORNER_XY 537276.746 4441722.866 *
SECONDARY_NW_QUAD_XY 537243.569 4448449.575 *
SECONDARY_NE_QUAD_XY 542564.100 4448477.665 *
SECONDARY_SE_QUAD_XY 542603.140 4441540.664 *
SECONDARY_SW_QUAD_XY 537277.728 4441512.586 *
RMSE_XY 0.598 *
IMAGE_SOURCE "Black and White film" *
SOURCE_IMAGE_ID "NAPP 10476-151" *
SOURCE_IMAGE_DATE 1998 08 11 *
SOURCE_DEM_DATE 1967 00 00 *
AGENCY "WESTERN MAPPING CENTER (WMC)" *
PRODUCER "Hammon, Jensen, Wallen & Associates" *
PRODUCTION_SYSTEM "ORTHOVIEW" *
STANDARD_VERSION 1996 12 *
METADATA_DATE 2001 3 21 *
DATA_FILE_SIZE 46091032 *
BYTE_COUNT 6071 * * * * * * * * * * * * * * * * * * * * * * * * * * * * * * * * *
END_USGS_HEADER *
