BEGIN_USGS_DOQ_HEADER *
QUADRANGLE_NAME "COLD FORK" *
QUADRANT NE *
WEST_LONGITUDE -122 41 15.000 *
EAST_LONGITUDE -122 37 30.000 *
NORTH_LATITUDE 40 15 0.000 *
SOUTH_LATITUDE 40 11 15.000 *
PRODUCTION_DATE 2001 6 25 *
RASTER_ORDER LEFT_RIGHT/TOP_BOTTOM *
BAND_ORGANIZATION "SINGLE FILE" *
BAND_CONTENT BLACK&WHITE *
BITS_PER_PIXEL 8 *
SAMPLES_AND_LINES 6040 7572 *
HORIZONTAL_DATUM NAD83 *
HORIZONTAL_COORDINATE_SYSTEM UTM *
COORDINATE_ZONE 10 *
HORIZONTAL_UNITS METERS *
HORIZONTAL_RESOLUTION 1.0 *
SECONDARY_HORIZONTAL_DATUM NAD27 *
XY_ORIGIN 526181.872 4455872.810 *
SECONDARY_XY_ORIGIN 526278.097 4455676.610 *
NATION US *
STATE CA *
NW_QUAD_CORNER_XY 526577.394 4455552.204 *
NE_QUAD_CORNER_XY 531892.885 4455572.810 *
SE_QUAD_CORNER_XY 531922.203 4448635.633 *
SW_QUAD_CORNER_XY 526601.826 4448615.035 *
SECONDARY_NW_QUAD_XY 526578.098 4455341.683 *
SECONDARY_NE_QUAD_XY 531893.729 4455362.289 *
SECONDARY_SE_QUAD_XY 531923.046 4448425.232 *
SECONDARY_SW_QUAD_XY 526602.529 4448404.634 *
RMSE_XY 0.93 *
IMAGE_SOURCE "BLACK AND WHITE FILM" *
SOURCE_IMAGE_ID "NAPP 10476 196" *
SOURCE_IMAGE_DATE 1998 8 11 *
SOURCE_IMAGE_ID "NAPP 10476 195" *
SOURCE_IMAGE_DATE 1998 8 11 *
SOURCE_IMAGE_ID "NAPP 10476 197" *
SOURCE_IMAGE_DATE 1998 8 11 *
SOURCE_IMAGE_ID "NAPP 10476 221" *
SOURCE_IMAGE_DATE 1998 8 11 *
SOURCE_IMAGE_ID "NAPP 10476 222" *
SOURCE_IMAGE_DATE 1998 8 11 *
SOURCE_IMAGE_ID "NAPP 10476 223" *
SOURCE_IMAGE_DATE 1998 8 11 *
SOURCE_DEM_DATE 2000 0 0 *
AGENCY "WESTERN MAPPING CENTER (WMC)" *
PRODUCER "USDA FS GEOSPATIAL SERVICE AND TECHNOLOGY CENTER" *
PRODUCTION_SYSTEM "ORBIT OR_RECTIFY V.5.2" *
STANDARD_VERSION 1996 12 *
METADATA_DATE 2001 6 29 *
DATA_FILE_SIZE 45740920 *
BYTE_COUNT 6040 * * * * * * * * * * * * * * * * * * * * * * *
END_USGS_HEADER *
