BEGIN_USGS_DOQ_HEADER *
QUADRANGLE_NAME "COLD FORK" *
QUADRANT SE *
WEST_LONGITUDE -122 41 15.000 *
EAST_LONGITUDE -122 37 30.000 *
NORTH_LATITUDE 40 11 15.000 *
SOUTH_LATITUDE 40 7 30.000 *
PRODUCTION_DATE 2001 6 25 *
RASTER_ORDER LEFT_RIGHT/TOP_BOTTOM *
BAND_ORGANIZATION "SINGLE FILE" *
BAND_CONTENT BLACK&WHITE *
BITS_PER_PIXEL 8 *
SAMPLES_AND_LINES 6045 7572 *
HORIZONTAL_DATUM NAD83 *
HORIZONTAL_COORDINATE_SYSTEM UTM *
COORDINATE_ZONE 10 *
HORIZONTAL_UNITS METERS *
HORIZONTAL_RESOLUTION 1.0 *
SECONDARY_HORIZONTAL_DATUM NAD27 *
XY_ORIGIN 526206.926 4448935.633 *
SECONDARY_XY_ORIGIN 526303.033 4448739.489 *
NATION US *
STATE CA *
NW_QUAD_CORNER_XY 526601.826 4448615.035 *
NE_QUAD_CORNER_XY 531922.203 4448635.633 *
SE_QUAD_CORNER_XY 531951.483 4441698.532 *
SW_QUAD_CORNER_XY 526626.225 4441677.942 *
SECONDARY_NW_QUAD_XY 526602.529 4448404.634 *
SECONDARY_NE_QUAD_XY 531923.046 4448425.232 *
SECONDARY_SE_QUAD_XY 531952.325 4441488.251 *
SECONDARY_SW_QUAD_XY 526626.928 4441467.661 *
RMSE_XY 0.93 *
IMAGE_SOURCE "BLACK AND WHITE FILM" *
SOURCE_IMAGE_ID "NAPP 10476 194" *
SOURCE_IMAGE_DATE 1998 8 11 *
SOURCE_IMAGE_ID "NAPP 10476 193" *
SOURCE_IMAGE_DATE 1998 8 11 *
SOURCE_IMAGE_ID "NAPP 10476 195" *
SOURCE_IMAGE_DATE 1998 8 11 *
SOURCE_IMAGE_ID "NAPP 10476 219" *
SOURCE_IMAGE_DATE 1998 8 11 *
SOURCE_IMAGE_ID "NAPP 10476 220" *
SOURCE_IMAGE_DATE 1998 8 11 *
SOURCE_IMAGE_ID "NAPP 10476 221" *
SOURCE_IMAGE_DATE 1998 8 11 *
SOURCE_DEM_DATE 2000 0 0 *
AGENCY "WESTERN MAPPING CENTER (WMC)" *
PRODUCER "USDA FS GEOSPATIAL SERVICE AND TECHNOLOGY CENTER" *
PRODUCTION_SYSTEM "ORBIT OR_RECTIFY V.5.2" *
STANDARD_VERSION 1996 12 *
METADATA_DATE 2001 6 29 *
DATA_FILE_SIZE 45778785 *
BYTE_COUNT 6045 * * * * * * * * * * * * * * * * * * * * * * *
END_USGS_HEADER *
